Workbook

Sheet DESCRIÇÃO
A1: Obra: | B1: =PLANILHA!B1 -> Construção de rede de drenagem pluvial
A2: Proprietário: | B2: =#REF! -> #REF!
A3: Local: | B3: =PLANILHA!B3 -> Avenida Governador Jayme Campos
A4: Data: | B4: =PLANILHA!B4 -> 30 de julho de 2021
A5: RESUMO ORÇAMENTO
A7: Item | B7: DESCRIÇÃO | F7: Valores totais
A8: 1.0 | B8: =PLANILHA!D7 -> SERVIÇOS PRELIMINARES | F8: =PLANILHA!I7 -> #REF!
A9: 2.0 | B9: =PLANILHA!D13 -> MOVIMENTAÇÃO DE TERRA | F9: =PLANILHA!I13 -> 111628.34
A10: 3.0 | B10: =PLANILHA!D22 -> REDE DE DRENAGEM | F10: =PLANILHA!I22 -> #REF!
A11: 4.0 | B11: =PLANILHA!D39 -> TRANSPORTE | F11: =PLANILHA!I39 -> 8585.1134
B12: TOTAL | F12: =SUM(F8:F11) -> #REF!
A13: RESPONSÁVEL TÉCNICO ORÇAMENTISTA | E13: CONTRATANTE | F13: OBSERVAÇÕES
A17: JOÃO GUSTAVO FARIA DOS SANTOS JÚNIOR | E17: PREFEITURA MUNICIPAL DE INDIAVAÍ
A18: ENG. CIVIL - CREA Nº 5064045506 | E18: PREFEITO MUNICIPAL

Sheet DESCRIÇÃO DE ORÇAMENTO
A1: Obra: | B1: ='PLANILHA ORÇAMENTÁRIA'!B1:F1 -> Construção de muros e calçadas em casas populares | G1: BOLETIM
A2: Proprietário: | B2: ='PLANILHA ORÇAMENTÁRIA'!B2:F2 -> Prefeitura Municipal de Araputanga | G2: SINAPI 07/2025
A3: Local: | B3: ='PLANILHA ORÇAMENTÁRIA'!B3:F3 -> Quadra 14 e 04, Loteamento carvalho e Quadra 26 Loteamento Vilage, Araputanga-MT. | G3: BDI - SERVIÇOS
A4: Data: | B4: 45905 | G4: =BDI!D21 -> 0.2624
A5: RESUMO ORÇAMENTO
A7: ITEM | B7: DESCRIÇÃO | F7: VALORES TOTAIS | G7: PESO
A8: 1.0 | B8: ='PLANILHA ORÇAMENTÁRIA'!D7 -> ADMINISTRAÇÃO DE OBRA | F8: ='PLANILHA ORÇAMENTÁRIA'!I7 -> 4968.2 | G8: =(F8/$F$13) -> 0.0034313522
A9: 2.0 | B9: ='PLANILHA ORÇAMENTÁRIA'!D9 -> SERVIÇOS PRELIMINARES | F9: ='PLANILHA ORÇAMENTÁRIA'!I9 -> 7323.12 | G9: =(F9/$F$13) -> 0.0050578085
A10: 3.0 | B10: ='PLANILHA ORÇAMENTÁRIA'!D12 -> CONSTRUÇÃO DE MURO | F10: ='PLANILHA ORÇAMENTÁRIA'!I12 -> 832629.13 | G10: =(F10/$F$13) -> 0.57506618
A11: 4.0 | B11: ='PLANILHA ORÇAMENTÁRIA'!D29 -> REVESTIMENTOS E PINTURAS | F11: ='PLANILHA ORÇAMENTÁRIA'!I29 -> 505506.56 | G11: =(F11/$F$13) -> 0.34913471
A12: 5.0 | B12: ='PLANILHA ORÇAMENTÁRIA'!D34 -> CALÇADA | F12: ='PLANILHA ORÇAMENTÁRIA'!I34 -> 97457 | G12: =(F12/$F$13) -> 0.06730995
B13: TOTAL | F13: =SUM(F8:F12) -> 1447884 | G13: =SUM(G8:G12) -> 1
A14: RESPONSÁVEL TÉCNICO ORÇAMENTISTA
F16: OBSERVAÇÕES:
A18: JOÃO GUSTAVO FARIA DOS SANTOS JÚNIOR
A19: ENG. CIVIL - CREA Nº 64045506/SP

Sheet PLANILHA
A1: Obra: | B1: Construção de rede de drenagem pluvial | G1: BASE DE PREÇOS
A2: Proprietário: | B2: Prefeitura Municipal de Indiavaí
A3: Local: | B3: Avenida Governador Jayme Campos | G3: Não desonerado | I3: BDI
A4: Data: | B4: 30 de julho de 2021 | G4: SINAPI 06/2021 | H4: SICRO JAN/2021 | I4: =BDI!D21/100 -> 0.002624
A5: PLANILHA ORÇAMENTÁRIA
A6: BASE DE PREÇO | B6: Item | C6: Código | D6: Descrição | E6: Unid. | F6: Quant. | G6: Preço unitário (R$) | H6: Preço unitário BDI (R$) | I6: Valor final (R$)
B7: 1.0 | D7: SERVIÇOS PRELIMINARES | I7: =SUM(I8:I12) -> #REF!
A8: COMP. PRÓPRIA | B8: 1.1 | C8: COMP.001 | D8: PLACA DE OBRA EM CHAPA DE ACO GALVANIZADO | E8: m² | F8: 3 | G8: =#REF! -> #REF! | H8: =G8+(G8*$I$4) -> #REF! | I8: =H8*F8 -> #REF!
A9: SINAPI | B9: 1.2 | C9: 93584 | D9: EXECUÇÃO DE DEPÓSITO EM CANTEIRO DE OBRA EM CHAPA DE MADEIRA COMPENSADA, NÃO INCLUSO MOBILIÁRIO. AF_04/2016 | E9: m² | F9: 6 | G9: 650.95 | H9: =G9+(G9*$I$4) -> 652.65809 | I9: =H9*F9 -> 3915.9486
A10: SINAPI | B10: 1.3 | C10: 99063 | D10: LOCAÇÃO DE REDE DE ÁGUA OU ESGOTO. AF_10/2018 | E10: m | F10: 6 | G10: 3.55 | H10: =G10+(G10*$I$4) -> 3.5593152 | I10: =H10*F10 -> 21.355891
D11: ADMINISTRAÇÃO DA OBRA
A12: COMP. PRÓPRIA | B12: 1.4 | C12: COMP.002 | D12: =#REF! -> #REF! | E12: mês | F12: 3 | G12: =#REF! -> #REF! | H12: =G12+(G12*$I$4) -> #REF! | I12: =H12*F12 -> #REF!
B13: 2.0 | D13: MOVIMENTAÇÃO DE TERRA | I13: =SUM(I14:I21) -> 111628.34
A14: SINAPI | B14: 2.1 | C14: 90084 | D14: ESCAVAÇÃO MECANIZADA DE VALA COM PROF. MAIOR QUE 1,5 M ATÉ 3,0 M (MÉDIA ENTRE MONTANTE E JUSANTE/UMA COMPOSIÇÃO POR TRECHO), COM ESCAVADEIRA HIDRÁULICA (0,8 M3/111 HP), LARGURA ATÉ 1,5 M, EM SOLO DE 1A CATEGORIA, EM LOCAIS COM ALTO NÍVEL DE INTERFERÊNCIA. AF_02/2021 | E14: m³ | F14: =('CÁLCULO DE VOL E ESC REDE PRIN.'!J19+'CAL VOL. REDE COL.'!J33+'CALC. VOL PV'!J19+'CALC. VOL BL'!J10)-F15 -> 2359.395 | G14: 7.61 | H14: =G14+(G14*$I$4) -> 7.6299686 | I14: =H14*F14 -> 18002.11
A15: SINAPI | B15: 2.2 | C15: 102278 | D15: ESCAVAÇÃO MECANIZADA DE VALA COM PROF. MAIOR QUE 1,50 M ATÉ 3,0 M (MÉDIA ENTRE MONTANTE E JUSANTE/UMA COMPOSIÇÃO POR TRECHO), COM ESCAVADEIRA HIDRÁULICA (1,2 M3/155 HP), LARG. DE 1,5 M A 2,5 M, EM SOLO DE 1A CATEGORIA, EM LOCAIS COM ALTO NÍVEL DE INTERFERÊNCIA. AF_02/2021 | E15: m³ | F15: =SUM('CÁLCULO DE VOL E ESC REDE PRIN.'!J15:J18) -> 843.9065 | G15: 6.93 | H15: =G15+(G15*$I$4) -> 6.9481843 | I15: =H15*F15 -> 5863.6179
A16: SINAPI | B16: 2.3 | C16: 101572 | D16: ESCORAMENTO DE VALA, TIPO PONTALETEAMENTO, COM PROFUNDIDADE DE 1,5 A 3,0 M, LARGURA MENOR QUE 1,5 M. AF_08/2020 | E16: m² | F16: =SUM('CÁLCULO DE VOL E ESC REDE PRIN.'!J9:J15) -> 2293.501 | G16: 12.12 | H16: =G16+(G16*$I$4) -> 12.151803 | I16: =H16*F16 -> 27870.172
A17: SINAPI | B17: 2.3 | C17: 101573 | D17: ESCORAMENTO DE VALA, TIPO PONTALETEAMENTO, COM PROFUNDIDADE DE 1,5 A 3,0 M, LARGURA MAIOR OU IGUAL A 1,5 M E MENOR QUE 2,5 M. AF_08/2020 | E17: m² | F17: =SUM('CÁLCULO DE VOL E ESC REDE PRIN.'!J15:J18) -> 843.9065 | G17: 18.28 | H17: =G17+(G17*$I$4) -> 18.327967 | I17: =H17*F17 -> 15467.09
A18: SINAPI | B18: 2.4 | C18: 101622 | D18: PREPARO DE FUNDO DE VALA COM LARGURA MENOR QUE 1,5 M, COM CAMADA DE AREIA, LANÇAMENTO MECANIZADO. AF_08/2020 | E18: m³ | F18: =SUM('CÁLCULO DE VOL E ESC REDE PRIN.'!I9:I14) -> 77 | G18: 148.11 | H18: =G18+(G18*$I$4) -> 148.49864 | I18: =H18*F18 -> 11434.395
A19: SINAPI | B19: 2.4 | C19: 101625 | D19: PREPARO DE FUNDO DE VALA COM LARGURA MAIOR OU IGUAL A 1,5 M E MENOR QUE 2,5 M, COM CAMADA DE AREIA, LANÇAMENTO MECANIZADO. AF_08/2020 | E19: m³ | F19: =SUM('CÁLCULO DE VOL E ESC REDE PRIN.'!I15:I18) -> 36.55 | G19: 120.92 | H19: =G19+(G19*$I$4) -> 121.23729 | I19: =H19*F19 -> 4431.2231
A20: SINAPI | B20: 2.5 | C20: 93361 | D20: REATERRO MECANIZADO DE VALA COM ESCAVADEIRA HIDRÁULICA (CAPACIDADE DA CAÇAMBA: 0,8 M³ / POTÊNCIA: 111 HP), LARGURA ATÉ 1,5 M, PROFUNDIDADE DE 1,5 A 3,0 M, COM SOLO DE 1ª CATEGORIA EM LOCAIS COM ALTO NÍVEL DE INTERFERÊNCIA. AF_04/2016 | E20: m³ | F20: =('CÁLCULO DE VOL E ESC REDE PRIN.'!K19+'CAL VOL. REDE COL.'!K33+'CALC. VOL PV'!K19)-F21 -> 1756.9496 | G20: 13.01 | H20: =G20+(G20*$I$4) -> 13.044138 | I20: =H20*F20 -> 22917.893
A21: SINAPI | B21: 2.5 | C21: 93362 | D21: REATERRO MECANIZADO DE VALA COM ESCAVADEIRA HIDRÁULICA (CAPACIDADE DA CAÇAMBA: 0,8 M³ / POTÊNCIA: 111 HP), LARGURA DE 1,5 A 2,5 M, PROFUNDIDADE DE 1,5 A 3,0 M, COM SOLO DE 1ª CATEGORIA EM LOCAIS COM ALTO NÍVEL DE INTERFERÊNCIA. AF_04/2016 | E21: m³ | F21: =SUM('CÁLCULO DE VOL E ESC REDE PRIN.'!K15:K18) -> 586.15382 | G21: 9.6 | H21: =G21+(G21*$I$4) -> 9.6251904 | I21: =H21*F21 -> 5641.8421
A22: 3.0 | B22: 3.0 | D22: REDE DE DRENAGEM | I22: =SUM(I25:I38) -> #REF!
D23: ASSENTAMENTO DE TUBOS
D24: REDES PRINCIPAIS
A25: SINAPI | B25: 3.1 | C25: 92226 | D25: TUBO DE CONCRETO PARA REDES COLETORAS DE ÁGUAS PLUVIAIS, DIÂMETRO DE 1000 MM, JUNTA RÍGIDA, INSTALADO EM LOCAL COM ALTO NÍVEL DE INTERFERÊNCIAS - FORNECIMENTO E ASSENTAMENTO. AF_12/2015 | E25: m | F25: =SUM('CÁLCULO DE VOL E ESC REDE PRIN.'!C9:C14) -> 638 | G25: 511.75 | H25: =G25+(G25*$I$4) -> 513.09283 | I25: =H25*F25 -> 327353.23
A26: SINAPI | B26: 3.1 | C26: 92831 | D26: TUBO DE CONCRETO PARA REDES COLETORAS DE ÁGUAS PLUVIAIS, DIÂMETRO DE 1500 MM, JUNTA RÍGIDA, INSTALADO EM LOCAL COM ALTO NÍVEL DE INTERFERÊNCIAS - FORNECIMENTO E ASSENTAMENTO. AF_12/2015 | E26: m | F26: =SUM('CÁLCULO DE VOL E ESC REDE PRIN.'!C15:C18) -> 269 | G26: 1048.59 | H26: =G26+(G26*$I$4) -> 1051.3415 | I26: =H26*F26 -> 282810.86
D27: LIGAÇÕES DE BOCA DE LOBO COM PV'S
A28: SINAPI | B28: 3.1 | C28: 92219 | D28: TUBO DE CONCRETO PARA REDES COLETORAS DE ÁGUAS PLUVIAIS, DIÂMETRO DE 400 MM, JUNTA RÍGIDA, INSTALADO EM LOCAL COM ALTO NÍVEL DE INTERFERÊNCIAS - FORNECIMENTO E ASSENTAMENTO. AF_12/2015= | E28: m | F28: =SUM('CAL VOL. REDE COL.'!C9:C32) -> 333.82 | G28: 150.04 | H28: =G28+(G28*$I$4) -> 150.4337 | I28: =H28*F28 -> 50217.779
D29: DISPOSITIVOS DE DRENAGEM
D30: DISPOSITIVOS COLETORES - BOCA DE LOBO
A31: SICRO | B31: 3.2 | C31: 2003618 | D31: Boca de lobo simples - BLS 01 - areia e brita comerciais | E31: unid | F31: 24 | G31: 737.21 | H31: =G31+(G31*$I$4) -> 739.14444 | I31: =H31*F31 -> 17739.467
D32: POÇOS DE VISITA
A33: SICRO | B33: 3.4 | C33: 2003684 | D33: Poço de visita - PVI 04 - areia e brita comerciais | E33: unid | F33: 5 | G33: 2250.51 | H33: =G33+(G33*$I$4) -> 2256.4153 | I33: =H33*F33 -> 11282.077
A34: SICRO | B34: 3.5 | C34: 2003688 | D34: Poço de visita - PVI 06 - areia e brita comerciais | E34: unid | F34: 5 | G34: 3311.33 | H34: =G34+(G34*$I$4) -> 3320.0189 | I34: =H34*F34 -> 16600.095
A35: SINAPI | B35: 3.4 | C35: 98051 | D35: CHAMINÉ CIRCULAR PARA POÇO DE VISITA PARA ESGOTO, EM ALVENARIA COM TIJOLOS CERÂMICOS MACIÇOS, DIÂMETRO INTERNO = 0,6 M. AF_12/2020 | E35: m | F35: =SUM('CALC. VOL PV'!I9:I18) -> 9.08 | G35: 749.73 | H35: =G35+(G35*$I$4) -> 751.69729 | I35: =H35*F35 -> 6825.4114
A36: 3.5 | B36: 3.5 | C36: COMP. 003 | D36: TAMPÃO FOFO ARTICULADO D=600 MM, INSTALADO EM CHAMINÉ PARA DE POÇO DE VISITA | E36: unid | F36: 10 | G36: =#REF! -> #REF! | H36: =G36+(G36*$I$4) -> #REF! | I36: =H36*F36 -> #REF!
D37: DISSIPADORES DE ENERGIA
A38: SICRO | C38: 2003461 | D38: Dissipador de energia - DEB 07 - areia e pedra de mão comerciais | E38: unid | F38: 1 | G38: 4073.49 | H38: =G38+(G38*$I$4) -> 4084.1788 | I38: =H38*F38 -> 4084.1788
A39: 4.0 | B39: 4.0 | D39: TRANSPORTE | I39: =SUM(I40:I43) -> 8585.1134
D40: TRANSPORTE DE AREIA
...

Sheet PLANILHA ORÇAMENTÁRIA
A1: Obra: | B1: Construção de muros e calçadas em casas populares | G1: BASE DE PREÇOS
A2: Proprietário: | B2: Prefeitura Municipal de Araputanga
A3: Local: | B3: Quadra 14 e 04, Loteamento carvalho e Quadra 26 Loteamento Vilage, Araputanga-MT. | G3: Não desonerado | I3: BDI - SERVIÇOS
A4: Data: | B4: 45905 | G4: SINAPI 07/2025 | I4: =BDI!D21 -> 0.2624
A5: PLANILHA ORÇAMENTÁRIA
A6: BASE DE PREÇO | B6: Item | C6: Código | D6: Descrição | E6: Unid. | F6: Quant. | G6: Preço unitário (R$) | H6: Preço unitário BDI (R$) | I6: Valor final (R$)
B7: 1.0 | D7: ADMINISTRAÇÃO DE OBRA | I7: =I8 -> 4968.2
A8: COMP. PRÓPRIA | B8: 1.1 | C8: COMP.001 | D8: ADMINISTRAÇÃO LOCAL DE OBRA | E8: unid | F8: 1 | G8: ='COMPOSIÇÕES E COTAÇÕES'!G14 -> 3935.52 | H8: =TRUNC(G8+(G8*$I$4),2) -> 4968.2 | I8: =TRUNC(H8*F8,2) -> 4968.2
B9: 2.0 | D9: SERVIÇOS PRELIMINARES | I9: =SUM(I11:I11) -> 7323.12
D10: PLACA DE OBRA - DIMENSÃO 2,50 M X 1,25 M
A11: SINAPI - SERVIÇO | B11: 2.1 | C11: 103689 | D11: FORNECIMENTO E INSTALAÇÃO DE PLACA DE OBRA COM CHAPA GALVANIZADA E ESTRUTURA DE MADEIRA. AF_03/2022_PS | E11: m² | F11: 12.5 | G11: 464.08 | H11: =TRUNC(G11+(G11*$I$4),2) -> 585.85 | I11: =TRUNC(H11*F11,2) -> 7323.12
B12: 3.0 | D12: CONSTRUÇÃO DE MURO | I12: =SUM(I14:I28) -> 832629.13
D13: FUNDAÇÃO E BALDRAME
A14: SINAPI - SERVIÇO | B14: 3.1 | C14: 96523 | D14: ESCAVAÇÃO MANUAL PARA BLOCO DE COROAMENTO OU SAPATA (INCLUINDO ESCAVAÇÃO PARA COLOCAÇÃO DE FÔRMAS).AF_06/2017 | E14: m³ | F14: ='MEM. CÁLCULO'!D19+'MEM. CÁLCULO'!D31 -> 112.28317 | G14: 91.67 | H14: =TRUNC(G14+(G14*$I$4),2) -> 115.72 | I14: =TRUNC(H14*F14,2) -> 12993.4
A15: SINAPI - SERVIÇO | B15: 3.2 | C15: 96527 | D15: ESCAVAÇÃO MANUAL DE VALA PARA VIGA BALDRAME (INCLUINDO ESCAVAÇÃO PARA COLOCAÇÃO DE FÔRMAS). AF_06/2017 | E15: m³ | F15: ='MEM. CÁLCULO'!D22 -> 106.3265 | G15: 100.91 | H15: =TRUNC(G15+(G15*$I$4),2) -> 127.38 | I15: =TRUNC(H15*F15,2) -> 13543.86
A16: SINAPI - SERVIÇO | B16: 3.3 | C16: 96543 | D16: ARMAÇÃO DE BLOCO, VIGA BALDRAME E SAPATA UTILIZANDO AÇO CA-60 DE 5 MM - MONTAGEM. AF_06/2017 | E16: kg | F16: ='MEM. CÁLCULO'!D25 -> 825.594 | G16: 19.61 | H16: =TRUNC(G16+(G16*$I$4),2) -> 24.75 | I16: =TRUNC(H16*F16,2) -> 20433.45
A17: SINAPI - SERVIÇO | B17: 3.4 | C17: 96545 | D17: ARMAÇÃO DE BLOCO, VIGA BALDRAME OU SAPATA UTILIZANDO AÇO CA-50 DE 8 MM - MONTAGEM. AF_06/2017 | E17: kg | F17: ='MEM. CÁLCULO'!D28 -> 2823.46 | G17: 16.02 | H17: =TRUNC(G17+(G17*$I$4),2) -> 20.22 | I17: =TRUNC(H17*F17,2) -> 57090.36
A18: SINAPI - SERVIÇO | B18: 3.5 | C18: 96555 | D18: CONCRETAGEM DE BLOCO DE COROAMENTO OU VIGA BALDRAME, FCK 30 MPA, COM USO DE JERICA - LANÇAMENTO, ADENSAMENTO E ACABAMENTO. AF_01/2024 | E18: M³ | F18: ='MEM. CÁLCULO'!D31+'MEM. CÁLCULO'!D19 -> 112.28317 | G18: 834.9 | H18: =TRUNC(G18+(G18*$I$4),2) -> 1053.97 | I18: =TRUNC(H18*F18,2) -> 118343.08
D19: SUPERESTRUTURA
A20: SINAPI - SERVIÇO | B20: 3.7 | C20: 92419 | D20: MONTAGEM E DESMONTAGEM DE FÔRMA DE PILARES RETANGULARES E ESTRUTURAS SIMILARES, PÉ-DIREITO SIMPLES, EM CHAPA DE MADEIRA COMPENSADA RESINADA, 4 UTILIZAÇÕES. AF_09/2020 | E20: m² | F20: ='MEM. CÁLCULO'!D34 -> 74.458333 | G20: 97.09 | H20: =TRUNC(G20+(G20*$I$4),2) -> 122.56 | I20: =TRUNC(H20*F20,2) -> 9125.61
A21: SINAPI - SERVIÇO | B21: 3.8 | C21: 92448 | D21: MONTAGEM E DESMONTAGEM DE FÔRMA DE VIGA, ESCORAMENTO COM PONTALETE DE MADEIRA, PÉ-DIREITO SIMPLES, EM MADEIRA SERRADA, 4 UTILIZAÇÕES. AF_09/2020 | E21: m² | F21: ='MEM. CÁLCULO'!D37 -> 268.05 | G21: 159.44 | H21: =TRUNC(G21+(G21*$I$4),2) -> 201.27 | I21: =TRUNC(H21*F21,2) -> 53950.42
A22: SINAPI - SERVIÇO | B22: 3.9 | C22: 92759 | D22: ARMAÇÃO DE PILAR OU VIGA DE ESTRUTURA CONVENCIONAL DE CONCRETO ARMADO UTILIZANDO AÇO CA-60 DE 5,0 MM - MONTAGEM. AF_06/2022 | E22: kg | F22: ='MEM. CÁLCULO'!D40 -> 917.32667 | G22: 14.05 | H22: =TRUNC(G22+(G22*$I$4),2) -> 17.73 | I22: =TRUNC(H22*F22,2) -> 16264.2
A23: SINAPI - SERVIÇO | B23: 3.10 | C23: 92761 | D23: ARMAÇÃO DE PILAR OU VIGA DE ESTRUTURA CONVENCIONAL DE CONCRETO ARMADO UTILIZANDO AÇO CA-50 DE 8,0 MM -MONTAGEM. AF_06/2022 | E23: kg | F23: ='MEM. CÁLCULO'!D43 -> 2823.46 | G23: 12.52 | H23: =TRUNC(G23+(G23*$I$4),2) -> 15.8 | I23: =TRUNC(H23*F23,2) -> 44610.66
A24: SINAPI - SERVIÇO | B24: 3.11 | C24: 92762 | D24: ARMAÇÃO DE PILAR OU VIGA DE ESTRUTURA CONVENCIONAL DE CONCRETO ARMADO UTILIZANDO AÇO CA-50 DE 10,0 MM -MONTAGEM. AF_06/2022 | E24: kg | F24: ='MEM. CÁLCULO'!D46 -> 1470.1053 | G24: 11.2 | H24: =TRUNC(G24+(G24*$I$4),2) -> 14.13 | I24: =TRUNC(H24*F24,2) -> 20772.58
A25: SINAPI - SERVIÇO | B25: 3.12 | C25: 103672 | D25: CONCRETAGEM DE PILARES, FCK = 25 MPA, COM USO DE BOMBA - LANÇAMENTO, ADENSAMENTO E ACABAMENTO. AF_02/2022 | E25: m³ | F25: ='MEM. CÁLCULO'!D49 -> 26.805 | G25: 891.19 | H25: =TRUNC(G25+(G25*$I$4),2) -> 1125.03 | I25: =TRUNC(H25*F25,2) -> 30156.42
A26: SINAPI - SERVIÇO | B26: 3.13 | C26: 103674 | D26: CONCRETAGEM DE VIGAS E LAJES, FCK=25 MPA, PARA LAJES PREMOLDADAS COM USO DE BOMBA - LANÇAMENTO, ADENSAMENTO E ACABAMENTO. AF_02/2022 | E26: m³ | F26: ='MEM. CÁLCULO'!D52 -> 80.415 | G26: 910.75 | H26: =TRUNC(G26+(G26*$I$4),2) -> 1149.73 | I26: =TRUNC(H26*F26,2) -> 92455.53
D27: ALVENARIA
A28: SINAPI - SERVIÇO | B28: 3.14 | C28: 103348 | D28: ALVENARIA DE VEDAÇÃO DE BLOCOS CERÂMICOS FURADOS NA VERTICAL DE 11,5X19X39 CM (ESPESSURA 11,5CM) E ARGAMASSA DE ASSENTAMENTO COM PREPARO EM BETONEIRA. AF_12/2021 | E28: M² | F28: ='MEM. CÁLCULO'!D10 -> 3574 | G28: 76 | H28: =TRUNC(G28+(G28*$I$4),2) -> 95.94 | I28: =TRUNC(H28*F28,2) -> 342889.56
B29: 4.0 | D29: REVESTIMENTOS E PINTURAS | I29: =SUM(I30:I33) -> 505506.56
A30: SINAPI - SERVIÇO | B30: 4.1 | C30: 87897 | D30: CHAPISCO APLICADO EM ALVENARIA (SEM PRESENÇA DE VÃOS) E ESTRUTURAS DE CONCRETO DE FACHADA, COM EQUIPAMENTO DE PROJEÇÃO. ARGAMASSA TRAÇO 1:3 COM PREPARO EM BETONEIRA 400 L. AF_10/2022 | E30: m² | F30: ='MEM. CÁLCULO'!D13 -> 7148 | G30: 5.21 | H30: =TRUNC(G30+(G30*$I$4),2) -> 6.57 | I30: =TRUNC(H30*F30,2) -> 46962.36
A31: SINAPI - SERVIÇO | B31: 4.2 | C31: 104233 | D31: EMBOÇO OU MASSA ÚNICA EM ARGAMASSA TRAÇO 1:2:8, PREPARO MECÂNICA COM BETONEIRA 400 L, APLICADA MANUALMENTE EM PANOS DE FACHADA SEM PRESENÇA DE VÃOS, ESPESSURA DE 25 MM, ACESSO POR ANDAIME. AF_08/2022 | E31: m² | F31: ='MEM. CÁLCULO'!D13 -> 7148 | G31: 38.56 | H31: =TRUNC(G31+(G31*$I$4),2) -> 48.67 | I31: =TRUNC(H31*F31,2) -> 347893.16
A32: SINAPI - SERVIÇO | B32: 4.3 | C32: 88412 | D32: APLICAÇÃO MANUAL DE FUNDO SELADOR ACRÍLICO EM PANOS CEGOS DE FACHADA (SEM PRESENÇA DE VÃOS) DE EDIFÍCIOS DE MÚLTIPLOS PAVIMENTOS. AF_03/2024 | E32: m² | F32: ='MEM. CÁLCULO'!D13 -> 7148 | G32: 3.03 | H32: =TRUNC(G32+(G32*$I$4),2) -> 3.82 | I32: =TRUNC(H32*F32,2) -> 27305.36
A33: SINAPI - SERVIÇO | B33: 4.4 | C33: 104641 | D33: PINTURA LÁTEX ACRÍLICA ECONÔMICA, APLICAÇÃO MANUAL EM PAREDES, DUAS DEMÃOS. AF_04/2023 | E33: m² | F33: ='MEM. CÁLCULO'!D13 -> 7148 | G33: 9.24 | H33: =TRUNC(G33+(G33*$I$4),2) -> 11.66 | I33: =TRUNC(H33*F33,2) -> 83345.68
B34: 5.0 | D34: CALÇADA | I34: =SUM(I35:I35) -> 97457
A35: SINAPI - SERVIÇO | B35: 5.1 | C35: 94990 | D35: EXECUÇÃO DE PASSEIO (CALÇADA) OU PISO DE CONCRETO COM CONCRETO MOLDADO IN LOCO, FEITO EM OBRA, ACABAMENTO CONVENCIONAL, NÃO ARMADO. AF_08/2022 | E35: M³ | F35: ='MEM. CÁLCULO'!D16 -> 87.4344 | G35: 882.95 | H35: =TRUNC(G35+(G35*$I$4),2) -> 1114.63 | I35: =TRUNC(H35*F35,2) -> 97457
D36: PLUVIAL E DRENO AR CONDICIONADO
A37: SINAPI - SERVIÇO | B37: 10.50 | C37: 99253 | D37: CAIXA ENTERRADA HIDRÁULICA RETANGULAR EM ALVENARIA COM TIJOLOS CERÂMICOS MACIÇOS, DIMENSÕES INTERNAS: 0,6X0,6X0,6 M PARA REDE DE DRENAGEM. AF_12/2020 | E37: unid | H37: =TRUNC(G37+(G37*$I$4),2) -> 0 | I37: =TRUNC(H37*F37,2) -> 0
A38: SINAPI - SERVIÇO | B38: 10.51 | C38: 89512 | D38: TUBO PVC, SÉRIE R, ÁGUA PLUVIAL, DN 100 MM, FORNECIDO E INSTALADO EM RAMAL DE ENCAMINHAMENTO. AF_06/2022 | E38: m | H38: =TRUNC(G38+(G38*$I$4),2) -> 0 | I38: =TRUNC(H38*F38,2) -> 0
A39: SINAPI - SERVIÇO | B39: 10.52 | C39: 89865 | D39: TUBO, PVC, SOLDÁVEL, DN 25MM, INSTALADO EM DRENO DE AR-CONDICIONADO -FORNECIMENTO E INSTALAÇÃO. AF_08/2022 | E39: m | H39: =TRUNC(G39+(G39*$I$4),2) -> 0 | I39: =TRUNC(H39*F39,2) -> 0
A40: SINAPI - SERVIÇO | B40: 10.53 | C40: 89866 | D40: JOELHO 90 GRAUS, PVC, SOLDÁVEL, DN 25MM, INSTALADO EM DRENO DE AR-CONDICIONADO - FORNECIMENTO E INSTALAÇÃO. AF_08/2022 | E40: unid | H40: =TRUNC(G40+(G40*$I$4),2) -> 0 | I40: =TRUNC(H40*F40,2) -> 0
...

Sheet COMPOSIÇÕES
A1: =PLANILHA!A1 -> Obra: | B1: =PLANILHA!B1 -> Construção de rede de drenagem pluvial
A2: =PLANILHA!A2 -> Proprietário: | B2: =PLANILHA!B2 -> Prefeitura Municipal de Indiavaí
A3: =PLANILHA!A3 -> Local: | B3: =PLANILHA!B3 -> Avenida Governador Jayme Campos
A4: =PLANILHA!A4 -> Data: | B4: =PLANILHA!B4 -> 30 de julho de 2021
A6: COMPOSIÇÃO 001
A7: PLACA DE OBRA EM CHAPA DE ACO GALVANIZADO | D7: M²
A8: SINAPI | B8: CÓDIGO | C8: DESCRIÇÃO | D8: UNID | E8: COEFICIENTE | F8: VALOR UNIT (R$) | G8: VALOR (R$)
A9: INSUMO | B9: 4417 | C9: SARRAFO DE MADEIRA NAO APARELHADA *2,5 X 7* CM, MACARANDUBA, ANGELIM OU EQUIVALENTE DA REGIAO | D9: M | E9: 1,0000000 | F9: 4.1 | G9: =F9*E9 -> 4.1
A10: INSUMO | B10: 4491 | C10: PONTALETE DE MADEIRA NAO APARELHADA *7,5 X 7,5* CM (3 X 3 ") PINUS, MISTA OU EQUIVALENTE DA REGIAO | D10: M | E10: 4,0000000 | F10: 8.14 | G10: =F10*E10 -> 32.56
A11: INSUMO | B11: 4813 | C11: PLACA DE OBRA (PARA CONSTRUCAO CIVIL) EM CHAPA GALVANIZADA *N. 22*, DE *2,0 X 1,125* M | D11: M2 | E11: 1,0000000 | F11: 225 | G11: =F11*E11 -> 225
A12: INSUMO | B12: 5075 | C12: PREGO DE ACO POLIDO COM CABECA 18 X 30 (2 3/4 X 10) | D12: KG | E12: 0,1100000 | F12: 18.31 | G12: =F12*E12 -> 2.0141
A13: COMPOSICAO | B13: 88262 | C13: CARPINTEIRO DE FORMAS COM ENCARGOS COMPLEMENTARES | D13: H | E13: 1,0000000 | F13: 19.65 | G13: =F13*E13 -> 19.65
A14: COMPOSICAO | B14: 88316 | C14: SERVENTE COM ENCARGOS COMPLEMENTARES | D14: H | E14: 2,0000000 | F14: 15.65 | G14: =F14*E14 -> 31.3
A15: COMPOSICAO | B15: 94962 | C15: CONCRETO MAGRO PARA LASTRO, TRAÇO 1:4,5:4,5 (CIMENTO/ AREIA MÉDIA/ BRITA 1) - PREPARO MECÂNICO COM BETONEIRA 400 L. AF_07/2016 | D15: M3 | E15: 0,0100000 | F15: 302.63 | G15: =F15*E15 -> 3.0263
F16: TOTAL: | G16: =TRUNC(G14+G15+G13+G12+G11+G10+G9,2) -> 317.65
A18: COMPOSIÇÃO 002
A19: ADMINISTRAÇÃO DA OBRA | D19: MÊS
A20: SINAPI | B20: ITEM | C20: DESCRIÇÃO | E20: COEFICIENTE | F20: VALOR UNIT (R$) | G20: VALOR (R$)
A21: COMPOSICAO | B21: 90778 | C21: ENGENHEIRO CIVIL DE OBRA PLENO COM ENCARGOS COMPLEMENTARES | D21: H | E21: 8 | F21: 105.29 | G21: =F21*E21 -> 842.32
A22: COMPOSICAO | B22: 90776 | C22: ENCARREGADO GERAL COM ENCARGOS COMPLEMENTARES | D22: H | E22: 80 | F22: 23.11 | G22: =F22*E22 -> 1848.8
A23: COMPOSICAO | B23: 90781 | C23: TOPOGRAFO COM ENCARGOS COMPLEMENTARES | D23: H | E23: 16 | F23: 17.1 | G23: =F23*E23 -> 273.6
F24: TOTAL: | G24: =SUM(G21:G23) -> 2964.72
A26: COMPOSIÇÃO 003
A27: TAMPÃO FOFO ARTICULADO PARA CHAMINÉ DE POÇO DE VISITA | D27: UN
A28: SINAPI | B28: ITEM | C28: DESCRIÇÃO | E28: COEFICIENTE | F28: VALOR UNIT (R$) | G28: VALOR (R$)
A29: INSUMO | B29: 11301 | C29: TAMPAO FOFO ARTICULADO, CLASSE B125 CARGA MAX 12,5 T, REDONDO TAMPA 600 MM, REDE PLUVIAL/ESGOTO | D29: UNID | E29: 1 | F29: 660.46 | G29: =F29*E29 -> 660.46
A30: COMPOSICAO | B30: 88309 | C30: PEDREIRO COM ENCARGOS COMPLEMENTARES | D30: H | E30: 1.5 | F30: 19.86 | G30: =F30*E30 -> 29.79
A31: COMPOSICAO | B31: 88316 | C31: SERVENTE COM ENCARGOS COMPLEMENTARES | D31: H | E31: 1.5 | F31: 15.65 | G31: =F31*E31 -> 23.475
A32: COMPOSICAO | B32: 87316 | C32: ARGAMASSA TRAÇO 1:4 (EM VOLUME DE CIMENTO E AREIA GROSSA ÚMIDA) PARA CHAPISCO CONVENCIONAL, PREPARO MECÂNICO COM BETONEIRA 400 L. AF_08/2019 | D32: M³ | E32: 0.0075 | F32: 367.04 | G32: =F32*E32 -> 2.7528
F33: TOTAL: | G33: =SUM(G29:G30) -> 690.25
A35: RESPONSÁVEL TÉCNICO ORÇAMENTISTA | D35: OBSERVAÇÕES:
A39: JOÃO GUSTAVO FARIA DOS SANTOS JÚNIOR
A40: ENG. CIVIL - CREA Nº 5064045506

Sheet CRONOGRAMA
A1: Obra: | B1: =PLANILHA!B1 -> Construção de rede de drenagem pluvial
A2: Proprietário: | B2: =PLANILHA!B2 -> Prefeitura Municipal de Indiavaí
A3: Local: | B3: =PLANILHA!B3 -> Avenida Governador Jayme Campos
A4: Data: | B4: =DESCRIÇÃO!B4 -> 30 de julho de 2021
A5: CRONOGRAMA FÍSICO FINANCEIRO
A6: ITEM | B6: DESCRIÇÃO/ETAPA | C6: PERÍODO | E6: À EXECUTAR
E7: MÊS 01 | G7: MÊS 02 | I7: MÊS 03 | K7: TOTAL
C8: Valor (R$) | D8: % | E8: Valor (R$) | F8: % | G8: Valor (R$) | H8: % | I8: Valor (R$) | J8: % | K8: %
A9: =DESCRIÇÃO!A8 -> 1.0 | B9: =DESCRIÇÃO!B8 -> SERVIÇOS PRELIMINARES | C9: =DESCRIÇÃO!F8 -> #REF! | D9: =(C9/$C$13)*100 -> #REF! | E9: =C9*(F9/100) -> #REF! | F9: 100 | G9: =C9*(H9/100) -> #REF! | H9: 0 | I9: =C9*(J9/100) -> #REF! | J9: 0 | K9: =F9+H9+J9 -> 100
A10: =DESCRIÇÃO!A9 -> 2.0 | B10: =DESCRIÇÃO!B9 -> MOVIMENTAÇÃO DE TERRA | C10: =DESCRIÇÃO!F9 -> 111628.34 | D10: =(C10/$C$13)*100 -> #REF! | E10: =C10*(F10/100) -> 0 | F10: 0 | G10: =C10*(H10/100) -> 111628.34 | H10: 100 | I10: =C10*(J10/100) -> 0 | J10: 0 | K10: =F10+H10+J10 -> 100
A11: =DESCRIÇÃO!A10 -> 3.0 | B11: =DESCRIÇÃO!B10 -> REDE DE DRENAGEM | C11: =DESCRIÇÃO!F10 -> #REF! | D11: =(C11/$C$13)*100 -> #REF! | E11: =C11*(F11/100) -> #REF! | F11: 0 | G11: =C11*(H11/100) -> #REF! | H11: 100 | I11: =C11*(J11/100) -> #REF! | J11: 0 | K11: =F11+H11+J11 -> 100
A12: =DESCRIÇÃO!A11 -> 4.0 | B12: =DESCRIÇÃO!B11 -> TRANSPORTE | C12: =DESCRIÇÃO!F11 -> 8585.1134 | D12: =(C12/$C$13)*100 -> #REF! | E12: =C12*(F12/100) -> 0 | F12: 0 | G12: =C12*(H12/100) -> 0 | H12: 0 | I12: =C12*(J12/100) -> 8585.1134 | J12: 100 | K12: =F12+H12+J12 -> 100
B13: VALOR TOTAL | C13: =SUM(C9:C12) -> #REF! | D13: =SUM(D9:D12) -> #REF! | E13: =SUM(E9:E12) -> #REF! | F13: =(E13/C13)*100 -> #REF! | G13: =SUM(G9:G12) -> #REF! | H13: =(G13/C13)*100 -> #REF! | I13: =SUM(I9:I12) -> #REF! | J13: =(I13/C13)*100 -> #REF! | K13: =H13+F13+J13 -> #REF!
B14: VALOR ACUMULADO | E14: =SUM(E9:E13)/2 -> #REF! | F14: =F13 -> #REF! | G14: =E13+G13 -> #REF! | H14: =H13+F14 -> #REF! | I14: =G14+I13 -> #REF! | J14: =J13+H14 -> #REF!
A15: RESPONSÁVEL TÉCNICO ORÇAMENTISTA | D15: CONTRATANTE | G15: OBSERVAÇÕES:
A19: JOÃO GUSTAVO FARIA DOS SANTOS JÚNIOR | D19: PREFEITURA MUNICIPAL DE INDIAVAÍ
A20: ENG. CIVIL - CREA Nº 5064045506 | D20: PREFEITO MUNICIPAL

Sheet MEM. CÁLCULO
A1: ='[1]PLANILHA NÃO DESONERADO'!A1 -> Obra: | B1: ='PLANILHA ORÇAMENTÁRIA'!B1:F1 -> Construção de muros e calçadas em casas populares
A2: ='[1]PLANILHA NÃO DESONERADO'!A2 -> Proprietário: | B2: ='PLANILHA ORÇAMENTÁRIA'!B2:F2 -> Prefeitura Municipal de Araputanga
A3: ='[1]PLANILHA NÃO DESONERADO'!A3 -> Local: | B3: ='PLANILHA ORÇAMENTÁRIA'!B3:F3 -> Quadra 14 e 04, Loteamento carvalho e Quadra 26 Loteamento Vilage, Araputanga-MT.
A4: ='[1]PLANILHA NÃO DESONERADO'!A4 -> Data: | B4: ='PLANILHA ORÇAMENTÁRIA'!B4:F4 -> 45905
A6: MEMÓRIA DE CÁLCULO - CONSTRUÇÕES
A8: ='PLANILHA ORÇAMENTÁRIA'!B28 -> 3.14 | B8: ='PLANILHA ORÇAMENTÁRIA'!D28 -> ALVENARIA DE VEDAÇÃO DE BLOCOS CERÂMICOS FURADOS NA VERTICAL DE 11,5X19X39 CM (ESPESSURA 11,5CM) E ARGAMASSA DE ASSENTAMENTO COM PREPARO EM BETONEIRA. AF_12/2021
A9: LOCAL | B9: DESCRIÇÃO | C9: ÁREAS | D9: TOTAL (M²)
A10: OBRA | B10: MURO - CONSTRUÇÃO | C10: (((48*7+63*3)+(55*2+20*5+20*7+64*2)+(60*4+10*15+60*4+20*14))-45*2,8)*2 | D10: =(((48*7+63*3)+(55*2+20*5+20*7+64*2)+(60*4+10*15+60*4+20*14))-45*2.8)*2 -> 3574
A11: 4.1, 4.2, 4.3, 4.4 | B11: CHAPISCO, EMBOÇO, APLICAÇÃO DE SELADOR E PINTURA
A12: LOCAL | B12: DESCRIÇÃO | C12: ÁREAS | D12: TOTAL (M²)
A13: OBRA | B13: MURO - CONSTRUÇÃO | C13: =D10*2 -> 7148 | D13: =D10*2 -> 7148
A14: ='PLANILHA ORÇAMENTÁRIA'!B35 -> 5.1 | B14: ='PLANILHA ORÇAMENTÁRIA'!D35 -> EXECUÇÃO DE PASSEIO (CALÇADA) OU PISO DE CONCRETO COM CONCRETO MOLDADO IN LOCO, FEITO EM OBRA, ACABAMENTO CONVENCIONAL, NÃO ARMADO. AF_08/2022
A15: LOCAL | B15: DESCRIÇÃO | C15: VOLUME | D15: TOTAL (M²)
A16: OBRA | B16: CALÇADA | C16: ((90,31+2,51+61+2,51+90,31+2,51+61+2,51)+(89,5+2,36+65,1+2,36+20,6)+(49,2+64,2+49,2+64+2,36*4))*2*0,06 | D16: =((90.31+2.51+61+2.51+90.31+2.51+61+2.51)+(89.5+2.36+65.1+2.36+20.6)+(49.2+64.2+49.2+64+2.36*4))*2*0.06 -> 87.4344
A17: ='PLANILHA ORÇAMENTÁRIA'!B14 -> 3.1 | B17: ='PLANILHA ORÇAMENTÁRIA'!D14 -> ESCAVAÇÃO MANUAL PARA BLOCO DE COROAMENTO OU SAPATA (INCLUINDO ESCAVAÇÃO PARA COLOCAÇÃO DE FÔRMAS).AF_06/2017
A18: LOCAL | B18: DESCRIÇÃO | C18: VOLUME | D18: TOTAL (M²)
A19: OBRA | B19: MURO - CONSTRUÇÃO | C19: ((((((48*7+63*3)+(55*2+20*5+20*7+64*2)+(60*4+10*15+60*4+20*14))-45*2,8)/3)*0,5*0,5)*0,25) | D19: =((((((48*7+63*3)+(55*2+20*5+20*7+64*2)+(60*4+10*15+60*4+20*14))-45*2.8)/3)*0.5*0.5)*0.25) -> 37.229167
A20: ='PLANILHA ORÇAMENTÁRIA'!B15 -> 3.2 | B20: ='PLANILHA ORÇAMENTÁRIA'!D15 -> ESCAVAÇÃO MANUAL DE VALA PARA VIGA BALDRAME (INCLUINDO ESCAVAÇÃO PARA COLOCAÇÃO DE FÔRMAS). AF_06/2017
A21: LOCAL | B21: DESCRIÇÃO | C21: VOLUME | D21: TOTAL (M²)
A22: OBRA | B22: MURO - CONSTRUÇÃO | C22: (((48*7+63*3)+(55*2+20*5+20*7+64*2)+(60*4+10*15+60*4+20*14))-45*2,8)*0,17*0,35 | D22: =(((48*7+63*3)+(55*2+20*5+20*7+64*2)+(60*4+10*15+60*4+20*14))-45*2.8)*0.17*0.35 -> 106.3265
A23: ='PLANILHA ORÇAMENTÁRIA'!B16 -> 3.3 | B23: ='PLANILHA ORÇAMENTÁRIA'!D16 -> ARMAÇÃO DE BLOCO, VIGA BALDRAME E SAPATA UTILIZANDO AÇO CA-60 DE 5 MM - MONTAGEM. AF_06/2017
A24: LOCAL | B24: DESCRIÇÃO | C24: PESO | D24: TOTAL (KG)
A25: OBRA | B25: MURO - CONSTRUÇÃO | C25: (((((48*7+63*3)+(55*2+20*5+20*7+64*2)+(60*4+10*15+60*4+20*14))-45*2,8)/0,25)*0,75)*0,154 | D25: =(((((48*7+63*3)+(55*2+20*5+20*7+64*2)+(60*4+10*15+60*4+20*14))-45*2.8)/0.25)*0.75)*0.154 -> 825.594
A26: ='PLANILHA ORÇAMENTÁRIA'!B17 -> 3.4 | B26: ='PLANILHA ORÇAMENTÁRIA'!D17 -> ARMAÇÃO DE BLOCO, VIGA BALDRAME OU SAPATA UTILIZANDO AÇO CA-50 DE 8 MM - MONTAGEM. AF_06/2017
A27: LOCAL | B27: DESCRIÇÃO | C27: PESO | D27: TOTAL (KG)
A28: OBRA | B28: MURO - CONSTRUÇÃO | C28: ((((48*7+63*3)+(55*2+20*5+20*7+64*2)+(60*4+10*15+60*4+20*14))-45*2,8)*4)*0,395 | D28: =((((48*7+63*3)+(55*2+20*5+20*7+64*2)+(60*4+10*15+60*4+20*14))-45*2.8)*4)*0.395 -> 2823.46
A29: ='PLANILHA ORÇAMENTÁRIA'!B18 -> 3.5 | B29: ='PLANILHA ORÇAMENTÁRIA'!D18 -> CONCRETAGEM DE BLOCO DE COROAMENTO OU VIGA BALDRAME, FCK 30 MPA, COM USO DE JERICA - LANÇAMENTO, ADENSAMENTO E ACABAMENTO. AF_01/2024
A30: LOCAL | B30: DESCRIÇÃO | C30: VOLUME | D30: TOTAL (M³)
A31: OBRA | B31: MURO - CONSTRUÇÃO | C31: (((48*7+63*3)+(55*2+20*5+20*7+64*2)+(60*4+10*15+60*4+20*14))-45*2,8)*0,14*0,30 | D31: =(((48*7+63*3)+(55*2+20*5+20*7+64*2)+(60*4+10*15+60*4+20*14))-45*2.8)*0.14*0.3 -> 75.054
A32: ='PLANILHA ORÇAMENTÁRIA'!B20 -> 3.7 | B32: ='PLANILHA ORÇAMENTÁRIA'!D20 -> MONTAGEM E DESMONTAGEM DE FÔRMA DE PILARES RETANGULARES E ESTRUTURAS SIMILARES, PÉ-DIREITO SIMPLES, EM CHAPA DE MADEIRA COMPENSADA RESINADA, 4 UTILIZAÇÕES. AF_09/2020
A33: LOCAL | B33: DESCRIÇÃO | C33: VOLUME | D33: TOTAL (M²)
A34: OBRA | B34: MURO - CONSTRUÇÃO | C34: ((((((48*7+63*3)+(55*2+20*5+20*7+64*2)+(60*4+10*15+60*4+20*14))-45*2,8)/3)*,25*2)/4) | D34: =((((((48*7+63*3)+(55*2+20*5+20*7+64*2)+(60*4+10*15+60*4+20*14))-45*2.8)/3)*0.25*2)/4) -> 74.458333
A35: ='PLANILHA ORÇAMENTÁRIA'!B21 -> 3.8 | B35: ='PLANILHA ORÇAMENTÁRIA'!D21 -> MONTAGEM E DESMONTAGEM DE FÔRMA DE VIGA, ESCORAMENTO COM PONTALETE DE MADEIRA, PÉ-DIREITO SIMPLES, EM MADEIRA SERRADA, 4 UTILIZAÇÕES. AF_09/2020
A36: LOCAL | B36: DESCRIÇÃO | C36: PESO | D36: TOTAL (KG)
A37: OBRA | B37: MURO - CONSTRUÇÃO | C37: ((((((48*7+63*3)+(55*2+20*5+20*7+64*2)+(60*4+10*15+60*4+20*14))-45*2,8))*2*0,3)/4) | D37: =((((((48*7+63*3)+(55*2+20*5+20*7+64*2)+(60*4+10*15+60*4+20*14))-45*2.8))*2*0.3)/4) -> 268.05
A38: ='PLANILHA ORÇAMENTÁRIA'!B22 -> 3.9 | B38: ='PLANILHA ORÇAMENTÁRIA'!D22 -> ARMAÇÃO DE PILAR OU VIGA DE ESTRUTURA CONVENCIONAL DE CONCRETO ARMADO UTILIZANDO AÇO CA-60 DE 5,0 MM - MONTAGEM. AF_06/2022
A39: LOCAL | B39: DESCRIÇÃO | C39: PESO | D39: TOTAL (KG)
A40: OBRA | B40: MURO - CONSTRUÇÃO | C40: ((((((48*7+63*3)+(55*2+20*5+20*7+64*2)+(60*4+10*15+60*4+20*14))-45*2,8)/3/0,3)*0,75)*0,154)+(((((((48*7+63*3)+(55*2+20*5+20*7+64*2)+(60*4+10*15+60*4+20*14))-45*2,8))/,3)*0,75)*0,154) | D40: =((((((48*7+63*3)+(55*2+20*5+20*7+64*2)+(60*4+10*15+60*4+20*14))-45*2.8)/3/0.3)*0.75)*0.154)+(((((((48*7+63*3)+(55*2+20*5+20*7+64*2)+(60*4+10*15+60*4+20*14))-45*2.8))/0.3)*0.75)*0.154) -> 917.32667
A41: ='PLANILHA ORÇAMENTÁRIA'!B23 -> 3.10 | B41: ='PLANILHA ORÇAMENTÁRIA'!D23 -> ARMAÇÃO DE PILAR OU VIGA DE ESTRUTURA CONVENCIONAL DE CONCRETO ARMADO UTILIZANDO AÇO CA-50 DE 8,0 MM -MONTAGEM. AF_06/2022
A42: LOCAL | B42: DESCRIÇÃO | C42: PESO | D42: TOTAL (KG)
...

Sheet COMPOSIÇÕES E COTAÇÕES
A1: ='[2]PLANILHA NÃO DESONERADO'!A1 -> Obra: | B1: ='PLANILHA ORÇAMENTÁRIA'!B1:F1 -> Construção de muros e calçadas em casas populares
A2: ='[2]PLANILHA NÃO DESONERADO'!A2 -> Proprietário: | B2: ='PLANILHA ORÇAMENTÁRIA'!B2:F2 -> Prefeitura Municipal de Araputanga
A3: ='[2]PLANILHA NÃO DESONERADO'!A3 -> Local: | B3: ='PLANILHA ORÇAMENTÁRIA'!B3:F3 -> Quadra 14 e 04, Loteamento carvalho e Quadra 26 Loteamento Vilage, Araputanga-MT.
A4: ='[2]PLANILHA NÃO DESONERADO'!A4 -> Data: | B4: 45905
A6: COMPOSIÇÕES GERAIS DE ORÇAMENTOS
A9: COMPOSIÇÃO 001
A10: ADMINISTRAÇÃO LOCAL DE OBRA | D10: UNID
A11: SINAPI | B11: ITEM | C11: DESCRIÇÃO | E11: COEFICIENTE | F11: VALOR UNIT (R$) | G11: VALOR (R$)
A12: COMPOSICAO | B12: 90780 | C12: MESTRE DE OBRAS COM ENCARGOS COMPLEMENTARES | D12: H | E12: 48 | F12: 61.12 | G12: =TRUNC(F12*E12,2) -> 2933.76
A13: COMPOSICAO | B13: 90777 | C13: ENGENHEIRO CIVIL DE OBRA JUNIOR COM ENCARGOS COMPLEMENTARES | D13: H | E13: 8 | F13: 125.22 | G13: =TRUNC(F13*E13,2) -> 1001.76
A14: Engenheiro: 1 horas x 1 Dias x 4 Semanas x 2 Meses = 8h | F14: TOTAL: | G14: =TRUNC(G12+G13,2) -> 3935.52
A15: Mestre de Obras: 2 horas x 3 Dias x 4 Semanas x 2 Meses = 80h

Sheet CAL VOL. REDE COL.
A1: Obra: | B1: =PLANILHA!B1 -> Construção de rede de drenagem pluvial
A2: Proprietário: | B2: =PLANILHA!B2 -> Prefeitura Municipal de Indiavaí
A3: Local: | B3: =PLANILHA!B3 -> Avenida Governador Jayme Campos
A4: Data: | B4: =DESCRIÇÃO!B4 -> 30 de julho de 2021
A5: CÁLCULO DE VOLUMES TUBOS COLETORES (BL - PV)
A6: TRECHO | B6: DIÂMETRO (MM) | C6: EXTENSÃO (M) | D6: LARGURA DE ESCAVAÇÃO (M) | E6: PROFUNDIDADE MON. (M) | F6: INCLINAÇÃO (%) | G6: ESP. PAREDE DE TUBO (M) | H6: ESP. BERÇO DE AREIA (M) | I6: VOL. BERÇO DE AREIA (M³) | J6: VOL. ESCAVAÇÃO (M³) | K6: VOL. REATERRO (M³)
A9: T1 | B9: 0.4 | C9: 16.32 | D9: 0.9 | E9: 1 | F9: 1.89 | G9: 0.06 | H9: =0.1 -> 0.1 | I9: =(C9*D9)*H9 -> 1.4688 | J9: =(C9*D9)*(E9+((C9*F9/100)/2)) -> 16.953242 | K9: =(C9*D9)*(E9+(C9*((F9/100)/2)))-(((PI()*(((B9+(G9*2))/2)^2))*C9)+(H9*C9*D9)) -> 12.018537
A10: T2 | B10: 0.4 | C10: 15.47 | D10: 0.9 | E10: 1 | F10: 7.16 | G10: 0.06 | H10: =0.1 -> 0.1 | I10: =(C10*D10)*H10 -> 1.3923 | J10: =(C10*D10)*(E10+((C10*F10/100)/2)) -> 21.633919 | K10: =(C10*D10)*(E10+(C10*((F10/100)/2)))-(((PI()*(((B10+(G10*2))/2)^2))*C10)+(H10*C10*D10)) -> 16.95623
A11: T3 | B11: 0.4 | C11: 14.12 | D11: 0.9 | E11: 1 | F11: 2.37 | G11: 0.08 | H11: =0.1 -> 0.1 | I11: =(C11*D11)*H11 -> 1.2708 | J11: =(C11*D11)*((E11+F11)/2) -> 21.41298 | K11: =(C11*D11)*((E11+F11)/2)-(((PI()*(((B11+(G11*2))/2)^2))*C11)+(H11*C11*D11)) -> 16.664412
A12: T4 | B12: 0.4 | C12: 15.98 | D12: 0.9 | E12: 1 | F12: 0.59 | G12: 0.08 | H12: =0.1 -> 0.1 | I12: =(C12*D12)*H12 -> 1.4382 | J12: =(C12*D12)*((E12+F12)/2) -> 11.43369 | K12: =(C12*D12)*((E12+F12)/2)-(((PI()*(((B12+(G12*2))/2)^2))*C12)+(H12*C12*D12)) -> 6.0596022
A13: T5 | B13: 0.4 | C13: 16.11 | D13: 0.9 | E13: 1 | F13: 0.97 | G13: 0.08 | H13: =0.1 -> 0.1 | I13: =(C13*D13)*H13 -> 1.4499 | J13: =(C13*D13)*((E13+F13)/2) -> 14.281515 | K13: =(C13*D13)*((E13+F13)/2)-(((PI()*(((B13+(G13*2))/2)^2))*C13)+(H13*C13*D13)) -> 8.8637081
A14: T6 | B14: 0.4 | C14: 14.71 | D14: 0.9 | E14: 1 | F14: 1.11 | G14: 0.08 | H14: =0.1 -> 0.1 | I14: =(C14*D14)*H14 -> 1.3239 | J14: =(C14*D14)*((E14+F14)/2) -> 13.967145 | K14: =(C14*D14)*((E14+F14)/2)-(((PI()*(((B14+(G14*2))/2)^2))*C14)+(H14*C14*D14)) -> 9.0201593
A15: T7 | B15: 0.4 | C15: 15.23 | D15: 0.9 | E15: 1 | F15: 0.46 | G15: 0.08 | H15: =0.1 -> 0.1 | I15: =(C15*D15)*H15 -> 1.3707 | J15: =(C15*D15)*((E15+F15)/2) -> 10.00611 | K15: =(C15*D15)*((E15+F15)/2)-(((PI()*(((B15+(G15*2))/2)^2))*C15)+(H15*C15*D15)) -> 4.8842478
A16: T8 | B16: 0.4 | C16: 13.53 | D16: 0.9 | E16: 1 | F16: 0.42 | G16: 0.08 | H16: =0.1 -> 0.1 | I16: =(C16*D16)*H16 -> 1.2177 | J16: =(C16*D16)*((E16+F16)/2) -> 8.64567 | K16: =(C16*D16)*((E16+F16)/2)-(((PI()*(((B16+(G16*2))/2)^2))*C16)+(H16*C16*D16)) -> 4.0955193
A17: T9 | B17: 0.4 | C17: 12.98 | D17: 0.9 | E17: 1 | F17: 0.41 | G17: 0.08 | H17: =0.1 -> 0.1 | I17: =(C17*D17)*H17 -> 1.1682 | J17: =(C17*D17)*((E17+F17)/2) -> 8.23581 | K17: =(C17*D17)*((E17+F17)/2)-(((PI()*(((B17+(G17*2))/2)^2))*C17)+(H17*C17*D17)) -> 3.8706248
A18: T10 | B18: 0.4 | C18: 11.51 | D18: 0.9 | E18: 1 | F18: 1.57 | G18: 0.06 | H18: =0.1 -> 0.1 | I18: =(C18*D18)*H18 -> 1.0359 | J18: =(C18*D18)*(E18+((C18*F18/100)/2)) -> 11.294972 | K18: =(C18*D18)*(E18+(C18*((F18/100)/2)))-(((PI()*(((B18+(G18*2))/2)^2))*C18)+(H18*C18*D18)) -> 7.8146741
A19: T11 | B19: 0.4 | C19: 14.25 | D19: 0.9 | E19: 1 | F19: 0.84 | G19: 0.06 | H19: =0.1 -> 0.1 | I19: =(C19*D19)*H19 -> 1.2825 | J19: =(C19*D19)*(E19+((C19*F19/100)/2)) -> 13.592576 | K19: =(C19*D19)*(E19+(C19*((F19/100)/2)))-(((PI()*(((B19+(G19*2))/2)^2))*C19)+(H19*C19*D19)) -> 9.28378
A20: T12 | B20: 0.4 | C20: 12.93 | D20: 0.9 | E20: 1 | F20: 0.5 | G20: 0.08 | H20: =0.1 -> 0.1 | I20: =(C20*D20)*H20 -> 1.1637 | J20: =(C20*D20)*((E20+F20)/2) -> 8.72775 | K20: =(C20*D20)*((E20+F20)/2)-(((PI()*(((B20+(G20*2))/2)^2))*C20)+(H20*C20*D20)) -> 4.3793798
A21: T13 | B21: 0.4 | C21: 18.26 | D21: 0.9 | E21: 1 | F21: 1.13 | G21: 0.08 | H21: =0.1 -> 0.1 | I21: =(C21*D21)*H21 -> 1.6434 | J21: =(C21*D21)*((E21+F21)/2) -> 17.50221 | K21: =(C21*D21)*((E21+F21)/2)-(((PI()*(((B21+(G21*2))/2)^2))*C21)+(H21*C21*D21)) -> 11.361356
A22: T14 | B22: 0.4 | C22: 11.56 | D22: 0.9 | E22: 1 | F22: 2.4 | G22: 0.08 | H22: =0.1 -> 0.1 | I22: =(C22*D22)*H22 -> 1.0404 | J22: =(C22*D22)*((E22+F22)/2) -> 17.6868 | K22: =(C22*D22)*((E22+F22)/2)-(((PI()*(((B22+(G22*2))/2)^2))*C22)+(H22*C22*D22)) -> 13.799162
A23: T15 | B23: 0.4 | C23: 14.29 | D23: 0.9 | E23: 1 | F23: 1.44 | G23: 0.08 | H23: =0.1 -> 0.1 | I23: =(C23*D23)*H23 -> 1.2861 | J23: =(C23*D23)*((E23+F23)/2) -> 15.69042 | K23: =(C23*D23)*((E23+F23)/2)-(((PI()*(((B23+(G23*2))/2)^2))*C23)+(H23*C23*D23)) -> 10.884681
A24: T16 | B24: 0.4 | C24: 11.6 | D24: 0.9 | E24: 1 | F24: 0.5 | G24: 0.08 | H24: =0.1 -> 0.1 | I24: =(C24*D24)*H24 -> 1.044 | J24: =(C24*D24)*((E24+F24)/2) -> 7.83 | K24: =(C24*D24)*((E24+F24)/2)-(((PI()*(((B24+(G24*2))/2)^2))*C24)+(H24*C24*D24)) -> 3.92891
A25: T17 | B25: 0.4 | C25: 15.74 | D25: 0.9 | E25: 1 | F25: 1.68 | G25: 0.08 | H25: =0.1 -> 0.1 | I25: =(C25*D25)*H25 -> 1.4166 | J25: =(C25*D25)*((E25+F25)/2) -> 18.98244 | K25: =(C25*D25)*((E25+F25)/2)-(((PI()*(((B25+(G25*2))/2)^2))*C25)+(H25*C25*D25)) -> 13.689064
A26: T18 | B26: 0.4 | C26: 13.1 | D26: 0.9 | E26: 1 | F26: 1.74 | G26: 0.08 | H26: =0.1 -> 0.1 | I26: =(C26*D26)*H26 -> 1.179 | J26: =(C26*D26)*((E26+F26)/2) -> 16.1523 | K26: =(C26*D26)*((E26+F26)/2)-(((PI()*(((B26+(G26*2))/2)^2))*C26)+(H26*C26*D26)) -> 11.746759
A27: T19 | B27: 0.4 | C27: 15.16 | D27: 0.9 | E27: 1 | F27: 0.97 | G27: 0.08 | H27: =0.1 -> 0.1 | I27: =(C27*D27)*H27 -> 1.3644 | J27: =(C27*D27)*((E27+F27)/2) -> 13.43934 | K27: =(C27*D27)*((E27+F27)/2)-(((PI()*(((B27+(G27*2))/2)^2))*C27)+(H27*C27*D27)) -> 8.3410189
A28: T20 | B28: 0.4 | C28: 13.69 | D28: 0.9 | E28: 1 | F28: 2.98 | G28: 0.08 | H28: =0.1 -> 0.1 | I28: =(C28*D28)*H28 -> 1.2321 | J28: =(C28*D28)*((E28+F28)/2) -> 24.51879 | K28: =(C28*D28)*((E28+F28)/2)-(((PI()*(((B28+(G28*2))/2)^2))*C28)+(H28*C28*D28)) -> 19.914831
A29: T21 | B29: 0.4 | C29: 14.17 | D29: 0.9 | E29: 1 | F29: 0.5 | G29: 0.08 | H29: =0.1 -> 0.1 | I29: =(C29*D29)*H29 -> 1.2753 | J29: =(C29*D29)*((E29+F29)/2) -> 9.56475 | K29: =(C29*D29)*((E29+F29)/2)-(((PI()*(((B29+(G29*2))/2)^2))*C29)+(H29*C29*D29)) -> 4.7993668
A30: T22 | B30: 0.4 | C30: 13.5 | D30: 0.9 | E30: 1 | F30: 2.96 | G30: 0.08 | H30: =0.1 -> 0.1 | I30: =(C30*D30)*H30 -> 1.215 | J30: =(C30*D30)*((E30+F30)/2) -> 24.057 | K30: =(C30*D30)*((E30+F30)/2)-(((PI()*(((B30+(G30*2))/2)^2))*C30)+(H30*C30*D30)) -> 19.516938
A31: T23 | B31: 0.4 | C31: 10.33 | D31: 0.9 | E31: 1 | F31: 3 | G31: 0.08 | H31: =0.1 -> 0.1 | I31: =(C31*D31)*H31 -> 0.9297 | J31: =(C31*D31)*((E31+F31)/2) -> 18.594 | K31: =(C31*D31)*((E31+F31)/2)-(((PI()*(((B31+(G31*2))/2)^2))*C31)+(H31*C31*D31)) -> 15.120012
A32: T24 | B32: 0.4 | C32: 9.28 | D32: 0.9 | E32: 1 | F32: 2.83 | G32: 0.08 | H32: =0.1 -> 0.1 | I32: =(C32*D32)*H32 -> 0.8352 | J32: =(C32*D32)*((E32+F32)/2) -> 15.99408 | K32: =(C32*D32)*((E32+F32)/2)-(((PI()*(((B32+(G32*2))/2)^2))*C32)+(H32*C32*D32)) -> 12.873208
A33: TOTAIS: | I33: =SUM(I9:I32) -> 30.0438 | J33: =SUM(J9:J32) -> 360.19751 | K33: =SUM(K9:K32) -> 249.88618
A34: RESPONSÁVEL TÉCNICO ORÇAMENTISTA | D34: CONTRATANTE | G34: OBSERVAÇÕES:
A38: JOÃO GUSTAVO FARIA DOS SANTOS JÚNIOR | D38: PREFEITURA MUNICIPAL DE INDIAVAÍ
A39: ENG. CIVIL - CREA Nº 5064045506 | D39: PREFEITO MUNICIPAL

Sheet CÁLCULO DE VOL E ESC REDE PRIN.
A1: Obra: | B1: =PLANILHA!B1 -> Construção de rede de drenagem pluvial
A2: Proprietário: | B2: =PLANILHA!B2 -> Prefeitura Municipal de Indiavaí
A3: Local: | B3: =PLANILHA!B3 -> Avenida Governador Jayme Campos
A4: Data: | B4: =DESCRIÇÃO!B4 -> 30 de julho de 2021
A5: CÁLCULO DE VOLUMES E ESCORAMENTO - TRECHOS DE DRENAGEM
A6: TRECHO | B6: DIÂMETRO (M) | C6: EXTENSÃO (M) | D6: LARGURA DE ESCAVAÇÃO (M) | E6: PROFUNDIDADE MON. (M) | F6: PROFUNDIDADE JUS. (M) | G6: ESP. PAREDE DE TUBO (M) | H6: ESP. BERÇO DE AREIA (M) | I6: VOL. BERÇO DE AREIA (M³) | J6: VOL. ESCAVAÇÃO (M³) | K6: VOL. REATERRO (M³) | L6: ÁREA ESCORAMENTO (M²)
A9: T1 | B9: 0.6 | C9: 88 | D9: 1 | E9: 1.8 | F9: 1.96 | G9: 0.06 | H9: =0.1 -> 0.1 | I9: =(C9*D9)*H9 -> 8.8 | J9: =(C9*D9)*((E9+F9)/2) -> 165.44 | K9: =(C9*D9)*((E9+F9)/2)-(((PI()*(((B9+(G9*2))/2)^2))*C9)+(H9*C9*D9)) -> 120.81076 | L9: =C9*((E9+F9)/2) -> 165.44
A10: T2 | B10: 0.6 | C10: 110 | D10: 1 | E10: 1.96 | F10: 2.2 | G10: 0.06 | H10: =0.1 -> 0.1 | I10: =(C10*D10)*H10 -> 11 | J10: =(C10*D10)*((E10+F10)/2) -> 228.8 | K10: =(C10*D10)*((E10+F10)/2)-(((PI()*(((B10+(G10*2))/2)^2))*C10)+(H10*C10*D10)) -> 173.01346 | L10: =C10*((E10+F10)/2) -> 228.8
A11: T3 | B11: 0.8 | C11: 110 | D11: 1.3 | E11: 2.2 | F11: 4.18 | G11: 0.07 | H11: =0.1 -> 0.1 | I11: =(C11*D11)*H11 -> 14.3 | J11: =(C11*D11)*((E11+F11)/2) -> 456.17 | K11: =(C11*D11)*((E11+F11)/2)-(((PI()*(((B11+(G11*2))/2)^2))*C11)+(H11*C11*D11)) -> 365.53244 | L11: =C11*((E11+F11)/2) -> 350.9
A12: T4 | B12: 0.8 | C12: 110 | D12: 1.3 | E12: 4.18 | F12: 2.91 | G12: 0.07 | H12: =0.1 -> 0.1 | I12: =(C12*D12)*H12 -> 14.3 | J12: =(C12*D12)*((E12+F12)/2) -> 506.935 | K12: =(C12*D12)*((E12+F12)/2)-(((PI()*(((B12+(G12*2))/2)^2))*C12)+(H12*C12*D12)) -> 416.29744 | L12: =C12*((E12+F12)/2) -> 389.95
A13: T5 | B13: 0.8 | C13: 110 | D13: 1.3 | E13: 2.91 | F13: 2.3 | G13: 0.07 | H13: =0.1 -> 0.1 | I13: =(C13*D13)*H13 -> 14.3 | J13: =(C13*D13)*((E13+F13)/2) -> 372.515 | K13: =(C13*D13)*((E13+F13)/2)-(((PI()*(((B13+(G13*2))/2)^2))*C13)+(H13*C13*D13)) -> 281.87744 | L13: =C13*((E13+F13)/2) -> 286.55
A14: T6 | B14: 0.8 | C14: 110 | D14: 1.3 | E14: 2.3 | F14: 2.3 | G14: 0.07 | H14: =0.1 -> 0.1 | I14: =(C14*D14)*H14 -> 14.3 | J14: =(C14*D14)*((E14+F14)/2) -> 328.9 | K14: =(C14*D14)*((E14+F14)/2)-(((PI()*(((B14+(G14*2))/2)^2))*C14)+(H14*C14*D14)) -> 238.26244 | L14: =C14*((E14+F14)/2) -> 253
A15: T7 | B15: 0.8 | C15: 78 | D15: 1.3 | E15: 2.3 | F15: 2.33 | G15: 0.07 | H15: =0.1 -> 0.1 | I15: =(C15*D15)*H15 -> 10.14 | J15: =(C15*D15)*((E15+F15)/2) -> 234.741 | K15: =(C15*D15)*((E15+F15)/2)-(((PI()*(((B15+(G15*2))/2)^2))*C15)+(H15*C15*D15)) -> 170.47073 | L15: =C15*((E15+F15)/2) -> 180.57
A16: T8 | B16: 0.8 | C16: 89 | D16: 1.3 | E16: 2.33 | F16: 2.3 | G16: 0.07 | H16: =0.1 -> 0.1 | I16: =(C16*D16)*H16 -> 11.57 | J16: =(C16*D16)*((E16+F16)/2) -> 267.8455 | K16: =(C16*D16)*((E16+F16)/2)-(((PI()*(((B16+(G16*2))/2)^2))*C16)+(H16*C16*D16)) -> 194.51147 | L16: =C16*((E16+F16)/2) -> 206.035
A17: T9 | B17: 0.8 | C17: 23 | D17: 1.3 | E17: 2.3 | F17: 2.3 | G17: 0.07 | H17: =0.1 -> 0.1 | I17: =(C17*D17)*H17 -> 2.99 | J17: =(C17*D17)*((E17+F17)/2) -> 68.77 | K17: =(C17*D17)*((E17+F17)/2)-(((PI()*(((B17+(G17*2))/2)^2))*C17)+(H17*C17*D17)) -> 49.81851 | L17: =C17*((E17+F17)/2) -> 52.9
A18: T10 | B18: 1 | C18: 79 | D18: 1.5 | E18: 2.3 | F18: 2.3 | G18: 0.1 | H18: =0.1 -> 0.1 | I18: =(C18*D18)*H18 -> 11.85 | J18: =(C18*D18)*((E18+F18)/2) -> 272.55 | K18: =(C18*D18)*((E18+F18)/2)-(((PI()*(((B18+(G18*2))/2)^2))*C18)+(H18*C18*D18)) -> 171.3531 | L18: =C18*((E18+F18)/2) -> 181.7
A19: TOTAIS: | I19: =SUM(I9:I17) -> 101.7 | J19: =SUM(J9:J17) -> 2630.1165 | K19: =SUM(K9:K17) -> 2010.5947 | L19: =SUM(L9:L17) -> 2114.145
A20: RESPONSÁVEL TÉCNICO ORÇAMENTISTA | D20: CONTRATANTE | G20: OBSERVAÇÕES:
A24: JOÃO GUSTAVO FARIA DOS SANTOS JÚNIOR | D24: PREFEITURA MUNICIPAL DE INDIAVAÍ
A25: ENG. CIVIL - CREA Nº 5064045506 | D25: PREFEITO MUNICIPAL

Sheet CALC. DIMEN.
A1: Obra: | B1: =PLANILHA!B1 -> Construção de rede de drenagem pluvial
A2: Proprietário: | B2: =PLANILHA!B2 -> Prefeitura Municipal de Indiavaí
A3: Local: | B3: =PLANILHA!B3 -> Avenida Governador Jayme Campos
A4: Data: | B4: =DESCRIÇÃO!B4 -> 30 de julho de 2021
A5: CÁLCULO DE DIMENSIONAMENTO DE TUBOS
A6: TRECHO | B6: ÁREAS DE CONTRIBUIÇÃO (HA) | C6: EXTENSÃO (M) | D6: COTA MON (M) | E6: COTA JUS (M) | F6: INCLINAÇÃO (M/M) | G6: VAZÃO SARJETAS TRECHO (M³/S) | H6: VAZÃO SARJETAS ACUM. (M³/S) | I6: DIÂMETRO CALCULADO (M) | J6: DIÂMETRO COMERCIAL (M) | K6: VERIFICAÇÃO | L6: PRÓX. DIÂMETRO COMERCIAL (M) | M6: VERIFICAÇÃO
A9: T1 | B9: 0.2554 | C9: 88 | D9: 200.82 | E9: 199 | F9: =(D9-E9)/C9 -> 0.020681818 | G9: =(B9*0.01*$C$21*$C$22)/3.6 -> 0.044517639 | H9: =(B9*0.01*C22*C21)/3.6 -> 0.044517639 | I9: =1.55*((($C$23*H9)/(F9^(1/2)))^(3/8)) -> 0.19592376 | J9: 0.6 | K9: =IF('CAL VERIFICAÇÕES'!Q9="OK","OK","NÃO OK") -> OK | L9: - | M9: -
A10: T2 | B10: 1.227 | C10: 110 | D10: 199 | E10: 196.56 | F10: =(D10-E10)/C10 -> 0.022181818 | G10: =(B10*0.01*$C$21*$C$22)/3.6 -> 0.21387292 | H10: =G10+H9 -> 0.25839056 | I10: =1.55*((($C$23*H10)/(F10^(1/2)))^(3/8)) -> 0.3739295 | J10: 0.6 | K10: =IF('CAL VERIFICAÇÕES'!Q10="OK","OK","NÃO OK") -> OK | L10: - | M10: -
A11: T3 | B11: 1.2366 | C11: 110 | D11: 196.56 | E11: 196.01 | F11: =(D11-E11)/C11 -> 0.005 | G11: =(B11*0.01*$C$21*$C$22)/3.6 -> 0.21554625 | H11: =G11+H10 -> 0.47393681 | I11: =1.55*((($C$23*H11)/(F11^(1/2)))^(3/8)) -> 0.62072429 | J11: 0.8 | K11: =IF('CAL VERIFICAÇÕES'!Q11="OK","OK","NÃO OK") -> OK | L11: - | M11: -
A12: T4 | B12: 0.8083 | C12: 110 | D12: 196.01 | E12: 195.46 | F12: =(D12-E12)/C12 -> 0.005 | G12: =(B12*0.01*$C$21*$C$22)/3.6 -> 0.14089118 | H12: =G12+H11 -> 0.61482799 | I12: =1.55*((($C$23*H12)/(F12^(1/2)))^(3/8)) -> 0.68436248 | J12: 0.8 | K12: =IF('CAL VERIFICAÇÕES'!Q12="OK","OK","NÃO OK") -> OK | L12: - | M12: -
A13: T5 | B13: 1.2438 | C13: 110 | D13: 195.46 | E13: 193.74 | F13: =(D13-E13)/C13 -> 0.015636364 | G13: =(B13*0.01*$C$21*$C$22)/3.6 -> 0.21680125 | H13: =G13+H12 -> 0.83162924 | I13: =1.55*((($C$23*H13)/(F13^(1/2)))^(3/8)) -> 0.61891877 | J13: 0.8 | K13: =IF('CAL VERIFICAÇÕES'!Q13="OK","OK","NÃO OK") -> OK | L13: - | M13: -
A14: T6 | B14: 1.18 | C14: 110 | D14: 193.74 | E14: 190.63 | F14: =(D14-E14)/C14 -> 0.028272727 | G14: =(B14*0.01*$C$21*$C$22)/3.6 -> 0.20568056 | H14: =G14+H13 -> 1.0373098 | I14: =1.55*((($C$23*H14)/(F14^(1/2)))^(3/8)) -> 0.60172034 | J14: 0.8 | K14: =IF('CAL VERIFICAÇÕES'!Q14="OK","OK","NÃO OK") -> OK | L14: - | M14: -
A15: T7 | B15: 0.7436 | C15: 78 | D15: 190.63 | E15: 188.71 | F15: =(D15-E15)/C15 -> 0.024615385 | G15: =(B15*0.01*$C$21*$C$22)/3.6 -> 0.12961361 | H15: =G15+H14 -> 1.1669234 | I15: =1.55*((($C$23*H15)/(F15^(1/2)))^(3/8)) -> 0.64543141 | J15: 0.8 | K15: =IF('CAL VERIFICAÇÕES'!Q15="OK","OK","NÃO OK") -> OK | L15: - | M15: -
A16: T8 | B16: 1.2844 | C16: 89 | D16: 188.71 | E16: 186.06 | F16: =(D16-E16)/C16 -> 0.029775281 | G16: =(B16*0.01*$C$21*$C$22)/3.6 -> 0.22387806 | H16: =G16+H15 -> 1.3908015 | I16: =1.55*((($C$23*H16)/(F16^(1/2)))^(3/8)) -> 0.66517651 | J16: 0.8 | K16: =IF('CAL VERIFICAÇÕES'!Q16="OK","OK","NÃO OK") -> OK | L16: - | M16: -
A17: T9 | B17: 1.2844 | C17: 23 | D17: 186.06 | E17: 185.45 | F17: =(D17-E17)/C17 -> 0.026521739 | G17: =(B17*0.01*$C$21*$C$22)/3.6 -> 0.22387806 | H17: =G17+H16 -> 1.6146795 | I17: =1.55*((($C$23*H17)/(F17^(1/2)))^(3/8)) -> 0.7188983 | J17: 0.8 | K17: =IF('CAL VERIFICAÇÕES'!Q17="OK","OK","NÃO OK") -> OK | L17: - | M17: -
A18: T10 | B18: 0 | C18: 79 | D18: 185.45 | E18: 184.83 | F18: =(D18-E18)/C18 -> 0.0078481013 | G18: =(B18*0.01*$C$21*$C$22)/3.6 -> 0 | H18: =G18+H17 -> 1.6146795 | I18: =1.55*((($C$23*H18)/(F18^(1/2)))^(3/8)) -> 0.90328431 | J18: 1 | K18: =IF('CAL VERIFICAÇÕES'!Q18="OK","OK","NÃO OK") -> OK | L18: - | M18: -
B20: DADOS
B21: C | C21: 0.5
B22: i | C22: 125.5
B23: MANNING | C23: 0.013
B24: TEMPO DE CONCENTRAÇÃO | C24: 15 MINUTOS
B25: PERÍODO DE RETORNO | C25: 10 ANOS
A27: RESPONSÁVEL TÉCNICO ORÇAMENTISTA | E27: CONTRATANTE | H27: OBSERVAÇÕES:
H29: DEVIDO A RISCOS DE ENTUPIMENTO NÃO SERÃO USADOS TUBOS COM DIÂMETROS INFERIORES A 60 CM NAS REDES PRINCIPAIS.
A31: JOÃO GUSTAVO FARIA DOS SANTOS JÚNIOR | E31: PREFEITURA MUNICIPAL DE INDIAVAÍ | H31: NÃO HAVERÁ DIMINUIÇÃO DE DIÂMETRO DURANTE O PERCURSO DE REDE.
A32: ENG. CIVIL - CREA Nº 5064045506 | E32: PREFEITO MUNICIPAL

Sheet CAL VERIFICAÇÕES
A1: Obra: | B1: =PLANILHA!B1 -> Construção de rede de drenagem pluvial
A2: Proprietário: | B2: =PLANILHA!B2 -> Prefeitura Municipal de Indiavaí
A3: Local: | B3: =PLANILHA!B3 -> Avenida Governador Jayme Campos
A4: Data: | B4: =DESCRIÇÃO!B4 -> 30 de julho de 2021
A5: CÁLCULO DE VERIFICAÇÃO DE VAZÕES, VELOCIDADES E DIMENSIONAMENTOS
A6: TRECHO | B6: DIÂMETRO (M) | C6: ÁREAS DE CONTRIBUIÇÃO (HA) | D6: EXTENSÃO (M) | E6: COTA MON (M) | F6: COTA JUS (M) | G6: INCLINAÇÃO (M/M) | H6: VAZÃO SARJETAS TRECHO (M³/S) | I6: VAZÃO SARJETAS ACUM. (M³/S) | J6: VAZÃO PLENA -TUBO (M³/S) | K6: Q/Qp | L6: y/d | M6: y (M) | N6: v/vp | O6: V PLENA (M/S) | P6: V REAL (M/S) | Q6: VERIFICAÇÃO DIMENS. | R6: VERIFICAÇÃO VEL.
A9: T1 | B9: 0.6 | C9: 0.2554 | D9: 88 | E9: 200.82 | F9: 199 | G9: =(E9-F9)/D9 -> 0.020681818 | H9: =(C9*0.01*$C$21*$C$22)/3.6 -> 0.044517639 | I9: =(C9*0.01*C22*C21)/3.6 -> 0.044517639 | J9: =((PI()*(B9^2))/(4*$C$23))*((B9/4)^(2/3))*G9^(1/2) -> 0.88302072 | K9: =I9/J9 -> 0.050415169 | L9: 0.16 | M9: =B9*L9 -> 0.096 | N9: 0.5376 | O9: =J9/((PI()*(B9^2))/4) -> 3.1230469 | P9: =N9*O9 -> 1.67895 | Q9: =IF(L9<0.75,"OK","NÃO OK") -> OK | R9: =IF(P9<5,"OK","NÃO OK") -> OK
A10: T2 | B10: 0.6 | C10: 1.227 | D10: 110 | E10: 199 | F10: 196.56 | G10: =(E10-F10)/D10 -> 0.022181818 | H10: =(C10*0.01*$C$21*$C$22)/3.6 -> 0.21387292 | I10: =H10+I9 -> 0.25839056 | J10: =((PI()*(B10^2))/(4*$C$23))*((B10/4)^(2/3))*G10^(1/2) -> 0.91448188 | K10: =I10/J10 -> 0.28255405 | L10: 0.37 | M10: =B10*L10 -> 0.222 | N10: 0.8675 | O10: =J10/((PI()*(B10^2))/4) -> 3.234318 | P10: =N10*O10 -> 2.8057709 | Q10: =IF(L10<0.75,"OK","NÃO OK") -> OK | R10: =IF(P10<5,"OK","NÃO OK") -> OK
A11: T3 | B11: 0.8 | C11: 1.2366 | D11: 110 | E11: 196.56 | F11: 196.01 | G11: =(E11-F11)/D11 -> 0.005 | H11: =(C11*0.01*$C$21*$C$22)/3.6 -> 0.21554625 | I11: =H11+I10 -> 0.47393681 | J11: =((PI()*(B11^2))/(4*$C$23))*((B11/4)^(2/3))*G11^(1/2) -> 0.93504283 | K11: =I11/J11 -> 0.50686107 | L11: 0.51 | M11: =B11*L11 -> 0.408 | N11: 1.0084 | O11: =J11/((PI()*(B11^2))/4) -> 1.8602086 | P11: =N11*O11 -> 1.8758343 | Q11: =IF(L11<0.75,"OK","NÃO OK") -> OK | R11: =IF(P11<5,"OK","NÃO OK") -> OK
A12: T4 | B12: 0.8 | C12: 0.8083 | D12: 110 | E12: 196.01 | F12: 195.46 | G12: =(E12-F12)/D12 -> 0.005 | H12: =(C12*0.01*$C$21*$C$22)/3.6 -> 0.14089118 | I12: =H12+I11 -> 0.61482799 | J12: =((PI()*(B12^2))/(4*$C$23))*((B12/4)^(2/3))*G12^(1/2) -> 0.93504283 | K12: =I12/J12 -> 0.65753992 | L12: 0.6 | M12: =B12*L12 -> 0.48 | N12: 1.0724 | O12: =J12/((PI()*(B12^2))/4) -> 1.8602086 | P12: =N12*O12 -> 1.9948877 | Q12: =IF(L12<0.75,"OK","NÃO OK") -> OK | R12: =IF(P12<5,"OK","NÃO OK") -> OK
A13: T5 | B13: 0.8 | C13: 1.2438 | D13: 110 | E13: 195.46 | F13: 193.74 | G13: =(E13-F13)/D13 -> 0.015636364 | H13: =(C13*0.01*$C$21*$C$22)/3.6 -> 0.21680125 | I13: =H13+I12 -> 0.83162924 | J13: =((PI()*(B13^2))/(4*$C$23))*((B13/4)^(2/3))*G13^(1/2) -> 1.6535388 | K13: =I13/J13 -> 0.50293906 | L13: 0.51 | M13: =B13*L13 -> 0.408 | N13: 1.0084 | O13: =J13/((PI()*(B13^2))/4) -> 3.2896109 | P13: =N13*O13 -> 3.3172436 | Q13: =IF(L13<0.75,"OK","NÃO OK") -> OK | R13: =IF(P13<5,"OK","NÃO OK") -> OK
A14: T6 | B14: 0.8 | C14: 1.18 | D14: 110 | E14: 193.74 | F14: 190.63 | G14: =(E14-F14)/D14 -> 0.028272727 | H14: =(C14*0.01*$C$21*$C$22)/3.6 -> 0.20568056 | I14: =H14+I13 -> 1.0373098 | J14: =((PI()*(B14^2))/(4*$C$23))*((B14/4)^(2/3))*G14^(1/2) -> 2.2234653 | K14: =I14/J14 -> 0.46652844 | L14: 0.49 | M14: =B14*L14 -> 0.392 | N14: 0.9914 | O14: =J14/((PI()*(B14^2))/4) -> 4.4234436 | P14: =N14*O14 -> 4.385402 | Q14: =IF(L14<0.75,"OK","NÃO OK") -> OK | R14: =IF(P14<5,"OK","NÃO OK") -> OK
A15: T7 | B15: 0.8 | C15: 0.7436 | D15: 78 | E15: 190.63 | F15: 188.71 | G15: =(E15-F15)/D15 -> 0.024615385 | H15: =(C15*0.01*$C$21*$C$22)/3.6 -> 0.12961361 | I15: =H15+I14 -> 1.1669234 | J15: =((PI()*(B15^2))/(4*$C$23))*((B15/4)^(2/3))*G15^(1/2) -> 2.0746738 | K15: =I15/J15 -> 0.56246116 | L15: 0.54 | M15: =B15*L15 -> 0.432 | N15: 1.032 | O15: =J15/((PI()*(B15^2))/4) -> 4.1274323 | P15: =N15*O15 -> 4.2595101 | Q15: =IF(L15<0.75,"OK","NÃO OK") -> OK | R15: =IF(P15<5,"OK","NÃO OK") -> OK
A16: T8 | B16: 0.8 | C16: 1.2844 | D16: 89 | E16: 188.71 | F16: 186.06 | G16: =(E16-F16)/D16 -> 0.029775281 | H16: =(C16*0.01*$C$21*$C$22)/3.6 -> 0.22387806 | I16: =H16+I15 -> 1.3908015 | J16: =((PI()*(B16^2))/(4*$C$23))*((B16/4)^(2/3))*G16^(1/2) -> 2.2817835 | K16: =I16/J16 -> 0.60952385 | L16: 0.57 | M16: =B16*L16 -> 0.456 | N16: 1.0533 | O16: =J16/((PI()*(B16^2))/4) -> 4.539464 | P16: =N16*O16 -> 4.7814175 | Q16: =IF(L16<0.75,"OK","NÃO OK") -> OK | R16: =IF(P16<5,"OK","NÃO OK") -> OK
A17: T9 | B17: 0.8 | C17: 1.2844 | D17: 23 | E17: 186.06 | F17: 185.45 | G17: =(E17-F17)/D17 -> 0.026521739 | H17: =(C17*0.01*$C$21*$C$22)/3.6 -> 0.22387806 | I17: =H17+I16 -> 1.6146795 | J17: =((PI()*(B17^2))/(4*$C$23))*((B17/4)^(2/3))*G17^(1/2) -> 2.153513 | K17: =I17/J17 -> 0.7497886 | L17: 0.6 | M17: =B17*L17 -> 0.48 | N17: 1.0724 | O17: =J17/((PI()*(B17^2))/4) -> 4.284278 | P17: =N17*O17 -> 4.5944597 | Q17: =IF(L17<0.75,"OK","NÃO OK") -> OK | R17: =IF(P17<5,"OK","NÃO OK") -> OK
A18: T10 | B18: 1 | C18: 0 | D18: 79 | E18: 185.45 | F18: 184.83 | G18: =(E18-F18)/D18 -> 0.0078481013 | H18: =(C18*0.01*$C$21*$C$22)/3.6 -> 0 | I18: =H18+I17 -> 1.6146795 | J18: =((PI()*(B18^2))/(4*$C$23))*((B18/4)^(2/3))*G18^(1/2) -> 2.1240048 | K18: =I18/J18 -> 0.7602052 | L18: 0.73 | M18: =B18*L18 -> 0.73 | N18: 1.1288 | O18: =J18/((PI()*(B18^2))/4) -> 2.7043669 | P18: =N18*O18 -> 3.0526894 | Q18: =IF(L18<0.75,"OK","NÃO OK") -> OK | R18: =IF(P18<5,"OK","NÃO OK") -> OK
B20: DADOS
B21: C | C21: 0.5
B22: i | C22: 125.5
B23: MANNING | C23: 0.013
B24: TEMPO DE CONCENTRAÇÃO | C24: 15 MINUTOS
B25: PERÍODO DE RETORNO | C25: 10 ANOS
A27: RESPONSÁVEL TÉCNICO ORÇAMENTISTA | E27: CONTRATANTE | H27: OBSERVAÇÕES:
A31: JOÃO GUSTAVO FARIA DOS SANTOS JÚNIOR | E31: PREFEITURA MUNICIPAL DE INDIAVAÍ
A32: ENG. CIVIL - CREA Nº 5064045506 | E32: PREFEITO MUNICIPAL

Sheet CALC. VOL PV
A1: Obra: | B1: =PLANILHA!B1 -> Construção de rede de drenagem pluvial
A2: Proprietário: | B2: =PLANILHA!B2 -> Prefeitura Municipal de Indiavaí
A3: Local: | B3: =PLANILHA!B3 -> Avenida Governador Jayme Campos
A4: Data: | B4: =DESCRIÇÃO!B4 -> 30 de julho de 2021
A5: CÁLCULO DE VOLUMES POÇOS DE VISITA
A6: TRECHO | B6: TIPO | C6: PROF. PV (M) | D6: COMP. PV (M) | E6: LARG. PV (M) | F6: PROF. ESCAVAÇÃO PV (M) | G6: COMP. ESCAVAÇÃO PV (M) | H6: LARG. ESCAVAÇÃO PV (M) | I6: ALTURA DE CHAMINÉ (M) | J6: VOL. ESCAVAÇÃO (M³) | K6: VOL. REATERRO (M³)
A9: PV-1 | B9: PVI04 | C9: =IF(B9="PVI02",0.8,IF(B9="PVI03",1,IF(B9="PVI04",1.3,IF(B9="PVI05",1.5,IF(B9="PVI06",1.8))))) -> 1.3 | D9: 1.9 | E9: =IF(B9="PVI02",1.3,IF(B9="PVI03",1.4,IF(B9="PVI04",1.5,IF(B9="PVI05",1.7,IF(B9="PVI06",2))))) -> 1.5 | F9: =C9+I9 -> 1.8 | G9: =D9+0.6 -> 2.5 | H9: =E9+0.6 -> 2.1 | I9: 0.5 | J9: =F9*G9*H9 -> 9.45 | K9: =J9-(C9*D9*E9) -> 5.745
A10: PV-2 | B10: PVI04 | C10: =IF(B10="PVI02",0.8,IF(B10="PVI03",1,IF(B10="PVI04",1.3,IF(B10="PVI05",1.5,IF(B10="PVI06",1.8))))) -> 1.3 | D10: 1.9 | E10: =IF(B10="PVI02",1.3,IF(B10="PVI03",1.4,IF(B10="PVI04",1.5,IF(B10="PVI05",1.7,IF(B10="PVI06",2))))) -> 1.5 | F10: =C10+I10 -> 1.96 | G10: =D10+0.6 -> 2.5 | H10: =E10+0.6 -> 2.1 | I10: 0.66 | J10: =F10*G10*H10 -> 10.29 | K10: =J10-(C10*D10*E10) -> 6.585
A11: PV-3 | B11: PVI04 | C11: =IF(B11="PVI02",0.8,IF(B11="PVI03",1,IF(B11="PVI04",1.3,IF(B11="PVI05",1.5,IF(B11="PVI06",1.8))))) -> 1.3 | D11: 1.9 | E11: =IF(B11="PVI02",1.3,IF(B11="PVI03",1.4,IF(B11="PVI04",1.5,IF(B11="PVI05",1.7,IF(B11="PVI06",2))))) -> 1.5 | F11: =C11+I11 -> 2.2 | G11: =D11+0.6 -> 2.5 | H11: =E11+0.6 -> 2.1 | I11: 0.9 | J11: =F11*G11*H11 -> 11.55 | K11: =J11-(C11*D11*E11) -> 7.845
A12: PV-4 | B12: PVI04 | C12: =IF(B12="PVI02",0.8,IF(B12="PVI03",1,IF(B12="PVI04",1.3,IF(B12="PVI05",1.5,IF(B12="PVI06",1.8))))) -> 1.3 | D12: 1.9 | E12: =IF(B12="PVI02",1.3,IF(B12="PVI03",1.4,IF(B12="PVI04",1.5,IF(B12="PVI05",1.7,IF(B12="PVI06",2))))) -> 1.5 | F12: =C12+I12 -> 4.18 | G12: =D12+0.6 -> 2.5 | H12: =E12+0.6 -> 2.1 | I12: 2.88 | J12: =F12*G12*H12 -> 21.945 | K12: =J12-(C12*D12*E12) -> 18.24
A13: PV-5 | B13: PVI04 | C13: =IF(B13="PVI02",0.8,IF(B13="PVI03",1,IF(B13="PVI04",1.3,IF(B13="PVI05",1.5,IF(B13="PVI06",1.8))))) -> 1.3 | D13: 1.9 | E13: =IF(B13="PVI02",1.3,IF(B13="PVI03",1.4,IF(B13="PVI04",1.5,IF(B13="PVI05",1.7,IF(B13="PVI06",2))))) -> 1.5 | F13: =C13+I13 -> 2.91 | G13: =D13+0.6 -> 2.5 | H13: =E13+0.6 -> 2.1 | I13: 1.61 | J13: =F13*G13*H13 -> 15.2775 | K13: =J13-(C13*D13*E13) -> 11.5725
A14: PV-6 | B14: PVI06 | C14: =IF(B14="PVI02",0.8,IF(B14="PVI03",1,IF(B14="PVI04",1.3,IF(B14="PVI05",1.5,IF(B14="PVI06",1.8))))) -> 1.8 | D14: 1.9 | E14: =IF(B14="PVI02",1.3,IF(B14="PVI03",1.4,IF(B14="PVI04",1.5,IF(B14="PVI05",1.7,IF(B14="PVI06",2))))) -> 2 | F14: =C14+I14 -> 2.3 | G14: =D14+0.6 -> 2.5 | H14: =E14+0.6 -> 2.6 | I14: 0.5 | J14: =F14*G14*H14 -> 14.95 | K14: =J14-(C14*D14*E14) -> 8.11
A15: PV-7 | B15: PVI06 | C15: =IF(B15="PVI02",0.8,IF(B15="PVI03",1,IF(B15="PVI04",1.3,IF(B15="PVI05",1.5,IF(B15="PVI06",1.8))))) -> 1.8 | D15: 1.9 | E15: =IF(B15="PVI02",1.3,IF(B15="PVI03",1.4,IF(B15="PVI04",1.5,IF(B15="PVI05",1.7,IF(B15="PVI06",2))))) -> 2 | F15: =C15+I15 -> 2.3 | G15: =D15+0.6 -> 2.5 | H15: =E15+0.6 -> 2.6 | I15: 0.5 | J15: =F15*G15*H15 -> 14.95 | K15: =J15-(C15*D15*E15) -> 8.11
A16: PV-8 | B16: PVI06 | C16: =IF(B16="PVI02",0.8,IF(B16="PVI03",1,IF(B16="PVI04",1.3,IF(B16="PVI05",1.5,IF(B16="PVI06",1.8))))) -> 1.8 | D16: 1.9 | E16: =IF(B16="PVI02",1.3,IF(B16="PVI03",1.4,IF(B16="PVI04",1.5,IF(B16="PVI05",1.7,IF(B16="PVI06",2))))) -> 2 | F16: =C16+I16 -> 2.33 | G16: =D16+0.6 -> 2.5 | H16: =E16+0.6 -> 2.6 | I16: 0.53 | J16: =F16*G16*H16 -> 15.145 | K16: =J16-(C16*D16*E16) -> 8.305
A17: PV-9 | B17: PVI06 | C17: =IF(B17="PVI02",0.8,IF(B17="PVI03",1,IF(B17="PVI04",1.3,IF(B17="PVI05",1.5,IF(B17="PVI06",1.8))))) -> 1.8 | D17: 1.9 | E17: =IF(B17="PVI02",1.3,IF(B17="PVI03",1.4,IF(B17="PVI04",1.5,IF(B17="PVI05",1.7,IF(B17="PVI06",2))))) -> 2 | F17: =C17+I17 -> 2.3 | G17: =D17+0.6 -> 2.5 | H17: =E17+0.6 -> 2.6 | I17: 0.5 | J17: =F17*G17*H17 -> 14.95 | K17: =J17-(C17*D17*E17) -> 8.11
A18: PV-10 | B18: PVI06 | C18: =IF(B18="PVI02",0.8,IF(B18="PVI03",1,IF(B18="PVI04",1.3,IF(B18="PVI05",1.5,IF(B18="PVI06",1.8))))) -> 1.8 | D18: 1.9 | E18: =IF(B18="PVI02",1.3,IF(B18="PVI03",1.4,IF(B18="PVI04",1.5,IF(B18="PVI05",1.7,IF(B18="PVI06",2))))) -> 2 | F18: =C18+I18 -> 2.3 | G18: =D18+0.6 -> 2.5 | H18: =E18+0.6 -> 2.6 | I18: 0.5 | J18: =F18*G18*H18 -> 14.95 | K18: =J18-(C18*D18*E18) -> 8.11
A19: TOTAIS: | J19: =SUM(J9:J17) -> 128.5075 | K19: =SUM(K9:K17) -> 82.6225
A20: RESPONSÁVEL TÉCNICO ORÇAMENTISTA | D20: CONTRATANTE | G20: OBSERVAÇÕES:
A24: JOÃO GUSTAVO FARIA DOS SANTOS JÚNIOR | D24: PREFEITURA MUNICIPAL DE INDIAVAÍ
A25: ENG. CIVIL - CREA Nº 5064045506 | D25: PREFEITO MUNICIPAL

Sheet CALC. VOL BL
A1: Obra: | B1: =PLANILHA!B1 -> Construção de rede de drenagem pluvial
A2: Proprietário: | B2: =PLANILHA!B2 -> Prefeitura Municipal de Indiavaí
A3: Local: | B3: =PLANILHA!B3 -> Avenida Governador Jayme Campos
A4: Data: | B4: =DESCRIÇÃO!B4 -> 30 de julho de 2021
A5: CÁLCULO DE VOLUMES BOCAS DE LOBO
A6: TIPO | B6: QUANT. (UNID) | C6: PROF. BL (M) | D6: COMP. BL (M) | E6: LARG. BL (M) | F6: PROF. ESCAVAÇÃO PV (M) | G6: COMP. ESCAVAÇÃO PV (M) | H6: LARG. ESCAVAÇÃO PV (M) | I6: ALTURA DE CHAMINÉ (M) | J6: VOL. ESCAVAÇÃO (M³) | K6: VOL. REATERRO (M³)
A9: BLS01 | B9: 24 | C9: =IF(A9="BLS01",1,IF(A9="BLS02",1.5)) -> 1 | D9: 1.4 | E9: 1 | F9: =C9+0.1 -> 1.1 | G9: =D9+0.6 -> 2 | H9: =E9+0.6 -> 1.6 | I9: 0.5 | J9: =(F9*G9*H9)*B9 -> 84.48 | K9: =J9-((C9*D9*E9)*B9) -> 50.88
A10: TOTAIS: | J10: =SUM(J9:J9) -> 84.48 | K10: =SUM(K9:K9) -> 50.88
A11: RESPONSÁVEL TÉCNICO ORÇAMENTISTA | D11: CONTRATANTE | G11: OBSERVAÇÕES:
A15: JOÃO GUSTAVO FARIA DOS SANTOS JÚNIOR | D15: PREFEITURA MUNICIPAL DE INDIAVAÍ
A16: ENG. CIVIL - CREA Nº 5064045506 | D16: PREFEITO MUNICIPAL

Sheet CALC. TRANSPORTES
A1: Obra: | B1: =PLANILHA!B1 -> Construção de rede de drenagem pluvial
A2: Proprietário: | B2: =PLANILHA!B2 -> Prefeitura Municipal de Indiavaí
A3: Local: | B3: =PLANILHA!B3 -> Avenida Governador Jayme Campos
A4: Data: | B4: =DESCRIÇÃO!B4 -> 30 de julho de 2021
A5: CÁLCULO DE QUANTIDADES E TRANSPORTES - DMT ATÉ 30 KM
A7: TRANSPORTE DE TUBOS
A8: DIÂMETRO (MM) | B8: EXTENSÃO (M) | C8: QUANT. (UNID) | D8: PESO ESPECÍFICO (TXUN) | E8: PESO TOTAL (T) | F8: MOMENTO DE TRANSPORTE (TXKM)
J10: DISTÂNCIAS MÉDIAS DE TRANSPORTE
A11: 400 | B11: =SUM('CAL VOL. REDE COL.'!C9:C32) -> 333.82 | C11: =ROUNDUP(B11,0) -> 334 | D11: 0.1 | E11: =D11*C11 -> 33.4 | F11: =E11*$K$12 -> 1002 | J11: ITEM | K11: DIST. (KM)
